{"text_format":"1","workbook":"xlsx","n_sheets":12,"sheets":["学校データ","競技者データ","ｲﾝﾀｰﾊｲ","ＡＢ","新人","男個票","女個票","新男駅伝","新女駅伝","男ﾛｰﾄﾞ","女ﾛｰﾄﾞ","種目名"],"not_rendered":{"charts":0,"images":0,"macros":1,"external_links":0,"defined_names":27,"comments":0,"pivot_tables":0},"unopened":[],"bounds":{"document_bytes":16777216,"sheet_cells":100000,"rows_first":2000,"rows_last":500,"rows_between":2000,"halvings":0,"cell_chars":16384,"cell_head_chars":4096},"cells_cut":0,"cells_raw":0,"read":"whole","date_system":"1900"}

{"sheet":"学校データ","index":0,"n_rows":55,"n_cols":19,"rows_kept":55,"cut":false,"hidden":false,"merged":[[4,8,4,9],[4,13,4,14],[7,15,9,22],[9,13,11,14],[0,2,0,5],[1,3,1,6],[2,1,2,2],[3,1,3,2],[4,3,4,4]]}
[null,null,"登記登録学校データーシート"]
["令和",7,"年度"]
["支部","旧名称（名称変更した学校）",null,null,null,"二重線枠内を入力してください。"]
["南部"]
["学校番号","種別","学校コード","学校名",null,"学校名フリガナ","略称学校名","郵便番号","学校所在地",null,"電話","FAX","学校長氏名","陸上競技部担当教員名",null,"男","女","合計","*"]
[null,null,null,null,"高等学校",null,null,null,"福岡県",null,null,null,null,null,null,{"$f":"COUNT(競技者データ!$A$4:$A$153)","v":0},{"$f":"COUNT(競技者データ!$B$4:$B$153)","v":0},{"$f":"SUM(P6:Q6)","v":0}]
[null,null,"↑指定された","↑　正式学校名",null,null,"↑全角６文字以内で",null,"↑",null,"↑","↑",null,"※　担当者が３名以上になると",null,"↑"]
[null,null,"ｺｰﾄﾞ番号を入力",null,null,null,"入力してください",null,"都道府県を入力",null,"全角大文字で入力してください",null,null,"原稿シート上の表示がくずれます。",null,"「競技者データー」に入力されたものを数えてきます。　　　　　　　入力しないで結構です。"]
[null,1,"国立",null,null,null,null,null,"ポップアップで選択してください",null,null,null,null,"必ず２名以内にしてください。"]
[null,2,"公立",null,null,null,null,null,"青森県",null,null,null,null,"＊登録用紙には４名まで表示可能ですが、都道府県集計ファイル（全国のまとめ）には２名しか表示できません。"]
[null,3,"私立",null,null,null,null,null,"岩手県"]
[null,4,"その他の学校","番号・記号を入力してください。",null,null,null,null,"宮城県"]
[null,null,null,null,null,null,null,null,"秋田県"]
["支部・学校番号",null,null,null,null,null,null,null,"山形県"]
["必要な都道府県は",null,null,null,null,null,null,null,"福島県"]
["利用してください。",null,null,null,null,null,null,null,"茨城県"]
[null,null,null,null,null,null,null,null,"栃木県"]
[null,null,null,null,null,null,null,null,"群馬県"]
[null,null,null,null,null,null,null,null,"埼玉県"]
[null,null,null,null,null,null,null,null,"千葉県"]
["南部",null,null,null,null,null,null,null,"東京都"]
["筑豊",null,null,null,null,null,null,null,"神奈川県"]
["中部",null,null,null,null,null,null,null,"新潟県"]
["北部",null,null,null,null,null,null,null,"富山県"]
[null,null,null,null,null,null,null,null,"石川県"]
[null,null,null,null,null,null,null,null,"福井県"]
[null,null,null,null,null,null,null,null,"山梨県"]
[null,null,null,null,null,null,null,null,"長野県"]
[null,null,null,null,null,null,null,null,"岐阜県"]
[null,null,null,null,null,null,null,null,"静岡県"]
[null,null,null,null,null,null,null,null,"愛知県"]
[null,null,null,null,null,null,null,null,"三重県"]
[null,null,null,null,null,null,null,null,"滋賀県"]
[null,null,null,null,null,null,null,null,"京都府"]
[null,null,null,null,null,null,null,null,"大阪府"]
[null,null,null,null,null,null,null,null,"兵庫県"]
[null,null,null,null,null,null,null,null,"奈良県"]
[null,null,null,null,null,null,null,null,"和歌山県"]
[null,null,null,null,null,null,null,null,"鳥取県"]
[null,null,null,null,null,null,null,null,"島根県"]
[null,null,null,null,null,null,null,null,"岡山県"]
[null,null,null,null,null,null,null,null,"広島県"]
[null,null,null,null,null,null,null,null,"山口県"]
[null,null,null,null,null,null,null,null,"徳島県"]
[null,null,null,null,null,null,null,null,"香川県"]
[null,null,null,null,null,null,null,null,"愛媛県"]
[null,null,null,null,null,null,null,null,"高知県"]
[null,null,null,null,null,null,null,null,"福岡県"]
[null,null,null,null,null,null,null,null,"佐賀県"]
[null,null,null,null,null,null,null,null,"長崎県"]
[null,null,null,null,null,null,null,null,"熊本県"]
[null,null,null,null,null,null,null,null,"大分県"]
[null,null,null,null,null,null,null,null,"宮崎県"]
[null,null,null,null,null,null,null,null,"鹿児島県"]
[null,null,null,null,null,null,null,null,"沖縄県"]

{"sheet":"競技者データ","index":1,"n_rows":153,"n_cols":23,"rows_kept":153,"cut":false,"hidden":false,"merged":[[0,0,0,7],[1,8,2,8],[1,10,2,10],[1,11,1,12],[1,21,2,21],[1,22,2,22],[1,13,2,13],[1,16,2,16],[1,17,2,17],[1,18,1,20]]}
["表示しない列",null,null,null,null,null,null,null,null,null,"表示しない","↓学校データシートの「支部」欄に入力すれば表示されます。",null,null,null,null,null,null,null,null,null,"入力しない","入力しない"]
[null,null,null,null,null,null,null,null,"番号","登録月日","学校コード","登録番号",null,"登録の種類","氏名","フリガナ","学年","性別","生年月日",null,null,"学校名","都道府県"]
["男継新","女継新","男追加","女追加","男継新","女継新","男追加","女追加",null,"(○／○○）",null,"支部","選手番号",null,"（姓と名の間は全角１文字スペース）","（全角カタカナで入力、姓と名の間は全角１文字スペース）",null,null,"年\n(西暦)","月","日"]
[{"$f":"+IF(AND(R4=\"男\",OR(N4=\"新規\",N4=\"継続\")),ROW(),\"\")","v":""},{"$f":"+IF(AND(R4=\"女\",OR(N4=\"新規\",N4=\"継続\")),ROW(),\"\")","v":""},{"$f":"+IF(J4>0,IF(AND(AND(N4=\"追加\",R4=\"男\"),RANK(J4,$J$4:$J$158,0)=1),ROW(),\"\"),\"\")","v":""},{"$f":"+IF(J4>0,IF(AND(AND(N4=\"追加\",R4=\"女\"),RANK(J4,$J$4:$J$153,0)=1),ROW(),\"\"),\"\")","v":""},{"$f":"+IF(A4=\"\",\"\",RANK(A4,A$4:A$153,1))","v":""},{"$f":"+IF(B4=\"\",\"\",RANK(B4,B$4:B$153,1))","v":""},{"$f":"+IF(C4=\"\",\"\",RANK(C4,C$4:C$153,1))","v":""},{"$f":"+IF(D4=\"\",\"\",RANK(D4,D$4:D$153,1))","v":""},1,null,{"$f":"学校データ!$C$6","v":0},{"$f":"+IF(学校データ!$A$4>0,学校データ!$A$4,\"\")","v":"南部"},null,null,null,null,null,null,null,null,null,{"$f":"学校データ!$G$6","v":0},{"$f":"学校データ!$I$6","v":"福岡県"}]
["",{"$f":"+IF(AND(R5=\"女\",OR(N5=\"新規\",N5=\"継続\")),ROW(),\"\")","v":""},{"$f":"+IF(J5>0,IF(AND(AND(N5=\"追加\",R5=\"男\"),RANK(J5,$J$4:$J$158,0)=1),ROW(),\"\"),\"\")","v":""},{"$f":"+IF(J5>0,IF(AND(AND(N5=\"追加\",R5=\"女\"),RANK(J5,$J$4:$J$153,0)=1),ROW(),\"\"),\"\")","v":""},{"$f":"+IF(A5=\"\",\"\",RANK(A5,A$4:A$153,1))","v":""},"","","",2,null,{"$f":"学校データ!$C$6","v":0},{"$f":"+IF(学校データ!$A$4>0,学校データ!$A$4,\"\")","v":"南部"},null,null,null,null,null,null,null,null,null,{"$f":"学校データ!$G$6","v":0},{"$f":"学校データ!$I$6","v":"福岡県"}]
["","","","","","","","",3,null,{"$f":"学校データ!$C$6","v":0},{"$f":"+IF(学校データ!$A$4>0,学校データ!$A$4,\"\")","v":"南部"},null,null,null,null,null,null,null,null,null,{"$f":"学校データ!$G$6","v":0},{"$f":"学校データ!$I$6","v":"福岡県"}]
["","","","","","","","",4,null,{"$f":"学校データ!$C$6","v":0},{"$f":"+IF(学校データ!$A$4>0,学校データ!$A$4,\"\")","v":"南部"},null,null,null,null,null,null,null,null,null,{"$f":"学校データ!$G$6","v":0},{"$f":"学校データ!$I$6","v":"福岡県"}]
["","","","","","","","",5,null,{"$f":"学校データ!$C$6","v":0},{"$f":"+IF(学校データ!$A$4>0,学校データ!$A$4,\"\")","v":"南部"},null,null,null,null,null,null,null,null,null,{"$f":"学校データ!$G$6","v":0},{"$f":"学校データ!$I$6","v":"福岡県"}]
["","","","","","","","",6,null,{"$f":"学校データ!$C$6","v":0},{"$f":"+IF(学校データ!$A$4>0,学校データ!$A$4,\"\")","v":"南部"},null,null,null,null,null,null,null,null,null,{"$f":"学校データ!$G$6","v":0},{"$f":"学校データ!$I$6","v":"福岡県"}]
["","","","","","","","",7,null,{"$f":"学校データ!$C$6","v":0},{"$f":"+IF(学校データ!$A$4>0,学校データ!$A$4,\"\")","v":"南部"},null,null,null,null,null,null,null,null,null,{"$f":"学校データ!$G$6","v":0},{"$f":"学校データ!$I$6","v":"福岡県"}]
["","","","","","","","",8,null,{"$f":"学校データ!$C$6","v":0},{"$f":"+IF(学校データ!$A$4>0,学校データ!$A$4,\"\")","v":"南部"},null,null,null,null,null,null,null,null,null,{"$f":"学校データ!$G$6","v":0},{"$f":"学校データ!$I$6","v":"福岡県"}]
["","","","","","","","",9,null,{"$f":"学校データ!$C$6","v":0},{"$f":"+IF(学校データ!$A$4>0,学校データ!$A$4,\"\")","v":"南部"},null,null,null,null,null,null,null,null,null,{"$f":"学校データ!$G$6","v":0},{"$f":"学校データ!$I$6","v":"福岡県"}]
["","","","","","","","",10,null,{"$f":"学校データ!$C$6","v":0},{"$f":"+IF(学校データ!$A$4>0,学校データ!$A$4,\"\")","v":"南部"},null,null,null,null,null,null,null,null,null,{"$f":"学校データ!$G$6","v":0},{"$f":"学校データ!$I$6","v":"福岡県"}]
["","","","","","","","",11,null,{"$f":"学校データ!$C$6","v":0},{"$f":"+IF(学校データ!$A$4>0,学校データ!$A$4,\"\")","v":"南部"},null,null,null,null,null,null,null,null,null,{"$f":"学校データ!$G$6","v":0},{"$f":"学校データ!$I$6","v":"福岡県"}]
["","","","","","","","",12,null,{"$f":"学校データ!$C$6","v":0},{"$f":"+IF(学校データ!$A$4>0,学校データ!$A$4,\"\")","v":"南部"},null,null,null,null,null,null,null,null,null,{"$f":"学校データ!$G$6","v":0},{"$f":"学校データ!$I$6","v":"福岡県"}]
["","","","","","","","",13,null,{"$f":"学校データ!$C$6","v":0},{"$f":"+IF(学校データ!$A$4>0,学校データ!$A$4,\"\")","v":"南部"},null,null,null,null,null,null,null,null,null,{"$f":"学校データ!$G$6","v":0},{"$f":"学校データ!$I$6","v":"福岡県"}]
["","","","","","","","",14,null,{"$f":"学校データ!$C$6","v":0},{"$f":"+IF(学校データ!$A$4>0,学校データ!$A$4,\"\")","v":"南部"},null,null,null,null,null,null,null,null,null,{"$f":"学校データ!$G$6","v":0},{"$f":"学校データ!$I$6","v":"福岡県"}]
["","","","","","","","",15,null,{"$f":"学校データ!$C$6","v":0},{"$f":"+IF(学校データ!$A$4>0,学校データ!$A$4,\"\")","v":"南部"},null,null,null,null,null,null,null,null,null,{"$f":"学校データ!$G$6","v":0},{"$f":"学校データ!$I$6","v":"福岡県"}]
["","","","","","","","",16,null,{"$f":"学校データ!$C$6","v":0},{"$f":"+IF(学校データ!$A$4>0,学校データ!$A$4,\"\")","v":"南部"},null,null,null,null,null,null,null,null,null,{"$f":"学校データ!$G$6","v":0},{"$f":"学校データ!$I$6","v":"福岡県"}]
["","","","","","","","",17,null,{"$f":"学校データ!$C$6","v":0},{"$f":"+IF(学校データ!$A$4>0,学校データ!$A$4,\"\")","v":"南部"},null,null,null,null,null,null,null,null,null,{"$f":"学校データ!$G$6","v":0},{"$f":"学校データ!$I$6","v":"福岡県"}]
["","","","","","","","",18,null,{"$f":"学校データ!$C$6","v":0},{"$f":"+IF(学校データ!$A$4>0,学校データ!$A$4,\"\")","v":"南部"},null,null,null,null,null,null,null,null,null,{"$f":"学校データ!$G$6","v":0},{"$f":"学校データ!$I$6","v":"福岡県"}]
["","","","","","","","",19,null,{"$f":"学校データ!$C$6","v":0},{"$f":"+IF(学校データ!$A$4>0,学校データ!$A$4,\"\")","v":"南部"},null,null,null,null,null,null,null,null,null,{"$f":"学校データ!$G$6","v":0},{"$f":"学校データ!$I$6","v":"福岡県"}]
["","","","","","","","",20,null,{"$f":"学校データ!$C$6","v":0},{"$f":"+IF(学校データ!$A$4>0,学校データ!$A$4,\"\")","v":"南部"},null,null,null,null,null,null,null,null,null,{"$f":"学校データ!$G$6","v":0},{"$f":"学校データ!$I$6","v":"福岡県"}]
["","","","","","","","",21,null,{"$f":"学校データ!$C$6","v":0},{"$f":"+IF(学校データ!$A$4>0,学校データ!$A$4,\"\")","v":"南部"},null,null,null,null,null,null,null,null,null,{"$f":"学校データ!$G$6","v":0},{"$f":"学校データ!$I$6","v":"福岡県"}]
["","","","","","","","",22,null,{"$f":"学校データ!$C$6","v":0},{"$f":"+IF(学校データ!$A$4>0,学校データ!$A$4,\"\")","v":"南部"},null,null,null,null,null,null,null,null,null,{"$f":"学校データ!$G$6","v":0},{"$f":"学校データ!$I$6","v":"福岡県"}]
["","","","","","","","",23,null,{"$f":"学校データ!$C$6","v":0},{"$f":"+IF(学校データ!$A$4>0,学校データ!$A$4,\"\")","v":"南部"},null,null,null,null,null,null,null,null,null,{"$f":"学校データ!$G$6","v":0},{"$f":"学校データ!$I$6","v":"福岡県"}]
["","","","","","","","",24,null,{"$f":"学校データ!$C$6","v":0},{"$f":"+IF(学校データ!$A$4>0,学校データ!$A$4,\"\")","v":"南部"},null,null,null,null,null,null,null,null,null,{"$f":"学校データ!$G$6","v":0},{"$f":"学校データ!$I$6","v":"福岡県"}]
["","","","","","","","",25,null,{"$f":"学校データ!$C$6","v":0},{"$f":"+IF(学校データ!$A$4>0,学校データ!$A$4,\"\")","v":"南部"},null,null,null,null,null,null,null,null,null,{"$f":"学校データ!$G$6","v":0},{"$f":"学校データ!$I$6","v":"福岡県"}]
["","","","","","","","",26,null,{"$f":"学校データ!$C$6","v":0},{"$f":"+IF(学校データ!$A$4>0,学校データ!$A$4,\"\")","v":"南部"},null,null,null,null,null,null,null,null,null,{"$f":"学校データ!$G$6","v":0},{"$f":"学校データ!$I$6","v":"福岡県"}]
["","","","","","","","",27,null,{"$f":"学校データ!$C$6","v":0},{"$f":"+IF(学校データ!$A$4>0,学校データ!$A$4,\"\")","v":"南部"},null,null,null,null,null,null,null,null,null,{"$f":"学校データ!$G$6","v":0},{"$f":"学校データ!$I$6","v":"福岡県"}]
["","","","","","","","",28,null,{"$f":"学校データ!$C$6","v":0},{"$f":"+IF(学校データ!$A$4>0,学校データ!$A$4,\"\")","v":"南部"},null,null,null,null,null,null,null,null,null,{"$f":"学校データ!$G$6","v":0},{"$f":"学校データ!$I$6","v":"福岡県"}]
["","","","","","","","",29,null,{"$f":"学校データ!$C$6","v":0},{"$f":"+IF(学校データ!$A$4>0,学校データ!$A$4,\"\")","v":"南部"},null,null,null,null,null,null,null,null,null,{"$f":"学校データ!$G$6","v":0},{"$f":"学校データ!$I$6","v":"福岡県"}]
["","","","","","","","",30,null,{"$f":"学校データ!$C$6","v":0},{"$f":"+IF(学校データ!$A$4>0,学校データ!$A$4,\"\")","v":"南部"},null,null,null,null,null,null,null,null,null,{"$f":"学校データ!$G$6","v":0},{"$f":"学校データ!$I$6","v":"福岡県"}]
["","","","","","","","",31,null,{"$f":"学校データ!$C$6","v":0},{"$f":"+IF(学校データ!$A$4>0,学校データ!$A$4,\"\")","v":"南部"},null,null,null,null,null,null,null,null,null,{"$f":"学校データ!$G$6","v":0},{"$f":"学校データ!$I$6","v":"福岡県"}]
["","","","","","","","",32,null,{"$f":"学校データ!$C$6","v":0},{"$f":"+IF(学校データ!$A$4>0,学校データ!$A$4,\"\")","v":"南部"},null,null,null,null,null,null,null,null,null,{"$f":"学校データ!$G$6","v":0},{"$f":"学校データ!$I$6","v":"福岡県"}]
["","","","","","","","",33,null,{"$f":"学校データ!$C$6","v":0},{"$f":"+IF(学校データ!$A$4>0,学校データ!$A$4,\"\")","v":"南部"},null,null,null,null,null,null,null,null,null,{"$f":"学校データ!$G$6","v":0},{"$f":"学校データ!$I$6","v":"福岡県"}]
["","","","","","","","",34,null,{"$f":"学校データ!$C$6","v":0},{"$f":"+IF(学校データ!$A$4>0,学校データ!$A$4,\"\")","v":"南部"},null,null,null,null,null,null,null,null,null,{"$f":"学校データ!$G$6","v":0},{"$f":"学校データ!$I$6","v":"福岡県"}]
["","","","","","","","",35,null,{"$f":"学校データ!$C$6","v":0},{"$f":"+IF(学校データ!$A$4>0,学校データ!$A$4,\"\")","v":"南部"},null,null,null,null,null,null,null,null,null,{"$f":"学校データ!$G$6","v":0},{"$f":"学校データ!$I$6","v":"福岡県"}]
["","","","","","","","",36,null,{"$f":"学校データ!$C$6","v":0},{"$f":"+IF(学校データ!$A$4>0,学校データ!$A$4,\"\")","v":"南部"},null,null,null,null,null,null,null,null,null,{"$f":"学校データ!$G$6","v":0},{"$f":"学校データ!$I$6","v":"福岡県"}]
["","","","","","","","",37,null,{"$f":"学校データ!$C$6","v":0},{"$f":"+IF(学校データ!$A$4>0,学校データ!$A$4,\"\")","v":"南部"},null,null,null,null,null,null,null,null,null,{"$f":"学校データ!$G$6","v":0},{"$f":"学校データ!$I$6","v":"福岡県"}]
["","","","","","","","",38,null,{"$f":"学校データ!$C$6","v":0},{"$f":"+IF(学校データ!$A$4>0,学校データ!$A$4,\"\")","v":"南部"},null,null,null,null,null,null,null,null,null,{"$f":"学校データ!$G$6","v":0},{"$f":"学校データ!$I$6","v":"福岡県"}]
["","","","","","","","",39,null,{"$f":"学校データ!$C$6","v":0},{"$f":"+IF(学校データ!$A$4>0,学校データ!$A$4,\"\")","v":"南部"},null,null,null,null,null,null,null,null,null,{"$f":"学校データ!$G$6","v":0},{"$f":"学校データ!$I$6","v":"福岡県"}]
["","","","","","","","",40,null,{"$f":"学校データ!$C$6","v":0},{"$f":"+IF(学校データ!$A$4>0,学校データ!$A$4,\"\")","v":"南部"},null,null,null,null,null,null,null,null,null,{"$f":"学校データ!$G$6","v":0},{"$f":"学校データ!$I$6","v":"福岡県"}]
["","","","","","","","",41,null,{"$f":"学校データ!$C$6","v":0},{"$f":"+IF(学校データ!$A$4>0,学校データ!$A$4,\"\")","v":"南部"},null,null,null,null,null,null,null,null,null,{"$f":"学校データ!$G$6","v":0},{"$f":"学校データ!$I$6","v":"福岡県"}]
["","","","","","","","",42,null,{"$f":"学校データ!$C$6","v":0},{"$f":"+IF(学校データ!$A$4>0,学校データ!$A$4,\"\")","v":"南部"},null,null,null,null,null,null,null,null,null,{"$f":"学校データ!$G$6","v":0},{"$f":"学校データ!$I$6","v":"福岡県"}]
["","","","","","","","",43,null,{"$f":"学校データ!$C$6","v":0},{"$f":"+IF(学校データ!$A$4>0,学校データ!$A$4,\"\")","v":"南部"},null,null,null,null,null,null,null,null,null,{"$f":"学校データ!$G$6","v":0},{"$f":"学校データ!$I$6","v":"福岡県"}]
["","","","","","","","",44,null,{"$f":"学校データ!$C$6","v":0},{"$f":"+IF(学校データ!$A$4>0,学校データ!$A$4,\"\")","v":"南部"},null,null,null,null,null,null,null,null,null,{"$f":"学校データ!$G$6","v":0},{"$f":"学校データ!$I$6","v":"福岡県"}]
["","","","","","","","",45,null,{"$f":"学校データ!$C$6","v":0},{"$f":"+IF(学校データ!$A$4>0,学校データ!$A$4,\"\")","v":"南部"},null,null,null,null,null,null,null,null,null,{"$f":"学校データ!$G$6","v":0},{"$f":"学校データ!$I$6","v":"福岡県"}]
["","","","","","","","",46,null,{"$f":"学校データ!$C$6","v":0},{"$f":"+IF(学校データ!$A$4>0,学校データ!$A$4,\"\")","v":"南部"},null,null,null,null,null,null,null,null,null,{"$f":"学校データ!$G$6","v":0},{"$f":"学校データ!$I$6","v":"福岡県"}]
["","","","","","","","",47,null,{"$f":"学校データ!$C$6","v":0},{"$f":"+IF(学校データ!$A$4>0,学校データ!$A$4,\"\")","v":"南部"},null,null,null,null,null,null,null,null,null,{"$f":"学校データ!$G$6","v":0},{"$f":"学校データ!$I$6","v":"福岡県"}]
["","","","","","","","",48,null,{"$f":"学校データ!$C$6","v":0},{"$f":"+IF(学校データ!$A$4>0,学校データ!$A$4,\"\")","v":"南部"},null,null,null,null,null,null,null,null,null,{"$f":"学校データ!$G$6","v":0},{"$f":"学校データ!$I$6","v":"福岡県"}]
["","","","","","","","",49,null,{"$f":"学校データ!$C$6","v":0},{"$f":"+IF(学校データ!$A$4>0,学校データ!$A$4,\"\")","v":"南部"},null,null,null,null,null,null,null,null,null,{"$f":"学校データ!$G$6","v":0},{"$f":"学校データ!$I$6","v":"福岡県"}]
["","","","","","","","",50,null,{"$f":"学校データ!$C$6","v":0},{"$f":"+IF(学校データ!$A$4>0,学校データ!$A$4,\"\")","v":"南部"},null,null,null,null,null,null,null,null,null,{"$f":"学校データ!$G$6","v":0},{"$f":"学校データ!$I$6","v":"福岡県"}]
["","","","","","","","",51,null,{"$f":"学校データ!$C$6","v":0},{"$f":"+IF(学校データ!$A$4>0,学校データ!$A$4,\"\")","v":"南部"},null,null,null,null,null,null,null,null,null,{"$f":"学校データ!$G$6","v":0},{"$f":"学校データ!$I$6","v":"福岡県"}]
["","","","","","","","",52,null,{"$f":"学校データ!$C$6","v":0},{"$f":"+IF(学校データ!$A$4>0,学校データ!$A$4,\"\")","v":"南部"},null,null,null,null,null,null,null,null,null,{"$f":"学校データ!$G$6","v":0},{"$f":"学校データ!$I$6","v":"福岡県"}]
["","","","","","","","",53,null,{"$f":"学校データ!$C$6","v":0},{"$f":"+IF(学校データ!$A$4>0,学校データ!$A$4,\"\")","v":"南部"},null,null,null,null,null,null,null,null,null,{"$f":"学校データ!$G$6","v":0},{"$f":"学校データ!$I$6","v":"福岡県"}]
["","","","","","","","",54,null,{"$f":"学校データ!$C$6","v":0},{"$f":"+IF(学校データ!$A$4>0,学校データ!$A$4,\"\")","v":"南部"},null,null,null,null,null,null,null,null,null,{"$f":"学校データ!$G$6","v":0},{"$f":"学校データ!$I$6","v":"福岡県"}]
["","","","","","","","",55,null,{"$f":"学校データ!$C$6","v":0},{"$f":"+IF(学校データ!$A$4>0,学校データ!$A$4,\"\")","v":"南部"},null,null,null,null,null,null,null,null,null,{"$f":"学校データ!$G$6","v":0},{"$f":"学校データ!$I$6","v":"福岡県"}]
["","","","","","","","",56,null,{"$f":"学校データ!$C$6","v":0},{"$f":"+IF(学校データ!$A$4>0,学校データ!$A$4,\"\")","v":"南部"},null,null,null,null,null,null,null,null,null,{"$f":"学校データ!$G$6","v":0},{"$f":"学校データ!$I$6","v":"福岡県"}]
["","","","","","","","",57,null,{"$f":"学校データ!$C$6","v":0},{"$f":"+IF(学校データ!$A$4>0,学校データ!$A$4,\"\")","v":"南部"},null,null,null,null,null,null,null,null,null,{"$f":"学校データ!$G$6","v":0},{"$f":"学校データ!$I$6","v":"福岡県"}]
["","","","","","","","",58,null,{"$f":"学校データ!$C$6","v":0},{"$f":"+IF(学校データ!$A$4>0,学校データ!$A$4,\"\")","v":"南部"},null,null,null,null,null,null,null,null,null,{"$f":"学校データ!$G$6","v":0},{"$f":"学校データ!$I$6","v":"福岡県"}]
["","","","","","","","",59,null,{"$f":"学校データ!$C$6","v":0},{"$f":"+IF(学校データ!$A$4>0,学校データ!$A$4,\"\")","v":"南部"},null,null,null,null,null,null,null,null,null,{"$f":"学校データ!$G$6","v":0},{"$f":"学校データ!$I$6","v":"福岡県"}]
["","","","","","","","",60,null,{"$f":"学校データ!$C$6","v":0},{"$f":"+IF(学校データ!$A$4>0,学校データ!$A$4,\"\")","v":"南部"},null,null,null,null,null,null,null,null,null,{"$f":"学校データ!$G$6","v":0},{"$f":"学校データ!$I$6","v":"福岡県"}]
["","","","","","","","",61,null,{"$f":"学校データ!$C$6","v":0},{"$f":"+IF(学校データ!$A$4>0,学校データ!$A$4,\"\")","v":"南部"},null,null,null,null,null,null,null,null,null,{"$f":"学校データ!$G$6","v":0},{"$f":"学校データ!$I$6","v":"福岡県"}]
["","","","","","","","",62,null,{"$f":"学校データ!$C$6","v":0},{"$f":"+IF(学校データ!$A$4>0,学校データ!$A$4,\"\")","v":"南部"},null,null,null,null,null,null,null,null,null,{"$f":"学校データ!$G$6","v":0},{"$f":"学校データ!$I$6","v":"福岡県"}]
["","","","","","","","",63,null,{"$f":"学校データ!$C$6","v":0},{"$f":"+IF(学校データ!$A$4>0,学校データ!$A$4,\"\")","v":"南部"},null,null,null,null,null,null,null,null,null,{"$f":"学校データ!$G$6","v":0},{"$f":"学校データ!$I$6","v":"福岡県"}]
["","","","","","","","",64,null,{"$f":"学校データ!$C$6","v":0},{"$f":"+IF(学校データ!$A$4>0,学校データ!$A$4,\"\")","v":"南部"},null,null,null,null,null,null,null,null,null,{"$f":"学校データ!$G$6","v":0},{"$f":"学校データ!$I$6","v":"福岡県"}]
[{"$f":"+IF(AND(R68=\"男\",OR(N68=\"新規\",N68=\"継続\")),ROW(),\"\")","v":""},"","","","","","",{"$f":"+IF(D68=\"\",\"\",RANK(D68,D$4:D$153,1))","v":""},65,null,{"$f":"学校データ!$C$6","v":0},{"$f":"+IF(学校データ!$A$4>0,学校データ!$A$4,\"\")","v":"南部"},null,null,null,null,null,null,null,null,null,{"$f":"学校データ!$G$6","v":0},{"$f":"学校データ!$I$6","v":"福岡県"}]
["",{"$f":"+IF(AND(R69=\"女\",OR(N69=\"新規\",N69=\"継続\")),ROW(),\"\")","v":""},{"$f":"+IF(J69>0,IF(AND(AND(N69=\"追加\",R69=\"男\"),RANK(J69,$J$4:$J$158,0)=1),ROW(),\"\"),\"\")","v":""},{"$f":"+IF(J69>0,IF(AND(AND(N69=\"追加\",R69=\"女\"),RANK(J69,$J$4:$J$153,0)=1),ROW(),\"\"),\"\")","v":""},{"$f":"+IF(A69=\"\",\"\",RANK(A69,A$4:A$153,1))","v":""},"","","",66,null,{"$f":"学校データ!$C$6","v":0},{"$f":"+IF(学校データ!$A$4>0,学校データ!$A$4,\"\")","v":"南部"},null,null,null,null,null,null,null,null,null,{"$f":"学校データ!$G$6","v":0},{"$f":"学校データ!$I$6","v":"福岡県"}]
["","","","","","","","",67,null,{"$f":"学校データ!$C$6","v":0},{"$f":"+IF(学校データ!$A$4>0,学校データ!$A$4,\"\")","v":"南部"},null,null,null,null,null,null,null,null,null,{"$f":"学校データ!$G$6","v":0},{"$f":"学校データ!$I$6","v":"福岡県"}]
["","","","","","","","",68,null,{"$f":"学校データ!$C$6","v":0},{"$f":"+IF(学校データ!$A$4>0,学校データ!$A$4,\"\")","v":"南部"},null,null,null,null,null,null,null,null,null,{"$f":"学校データ!$G$6","v":0},{"$f":"学校データ!$I$6","v":"福岡県"}]
["","","","","","","","",69,null,{"$f":"学校データ!$C$6","v":0},{"$f":"+IF(学校データ!$A$4>0,学校データ!$A$4,\"\")","v":"南部"},null,null,null,null,null,null,null,null,null,{"$f":"学校データ!$G$6","v":0},{"$f":"学校データ!$I$6","v":"福岡県"}]
["","","","","","","","",70,null,{"$f":"学校データ!$C$6","v":0},{"$f":"+IF(学校データ!$A$4>0,学校データ!$A$4,\"\")","v":"南部"},null,null,null,null,null,null,null,null,null,{"$f":"学校データ!$G$6","v":0},{"$f":"学校データ!$I$6","v":"福岡県"}]
["","","","","","","","",71,null,{"$f":"学校データ!$C$6","v":0},{"$f":"+IF(学校データ!$A$4>0,学校データ!$A$4,\"\")","v":"南部"},null,null,null,null,null,null,null,null,null,{"$f":"学校データ!$G$6","v":0},{"$f":"学校データ!$I$6","v":"福岡県"}]
["","","","","","","","",72,null,{"$f":"学校データ!$C$6","v":0},{"$f":"+IF(学校データ!$A$4>0,学校データ!$A$4,\"\")","v":"南部"},null,null,null,null,null,null,null,null,null,{"$f":"学校データ!$G$6","v":0},{"$f":"学校データ!$I$6","v":"福岡県"}]
["","","","","","","","",73,null,{"$f":"学校データ!$C$6","v":0},{"$f":"+IF(学校データ!$A$4>0,学校データ!$A$4,\"\")","v":"南部"},null,null,null,null,null,null,null,null,null,{"$f":"学校データ!$G$6","v":0},{"$f":"学校データ!$I$6","v":"福岡県"}]
["","","","","","","","",74,null,{"$f":"学校データ!$C$6","v":0},{"$f":"+IF(学校データ!$A$4>0,学校データ!$A$4,\"\")","v":"南部"},null,null,null,null,null,null,null,null,null,{"$f":"学校データ!$G$6","v":0},{"$f":"学校データ!$I$6","v":"福岡県"}]
["","","","","","","","",75,null,{"$f":"学校データ!$C$6","v":0},{"$f":"+IF(学校データ!$A$4>0,学校データ!$A$4,\"\")","v":"南部"},null,null,null,null,null,null,null,null,null,{"$f":"学校データ!$G$6","v":0},{"$f":"学校データ!$I$6","v":"福岡県"}]
["","","","","","","","",76,null,{"$f":"学校データ!$C$6","v":0},{"$f":"+IF(学校データ!$A$4>0,学校データ!$A$4,\"\")","v":"南部"},null,null,null,null,null,null,null,null,null,{"$f":"学校データ!$G$6","v":0},{"$f":"学校データ!$I$6","v":"福岡県"}]
["","","","","","","","",77,null,{"$f":"学校データ!$C$6","v":0},{"$f":"+IF(学校データ!$A$4>0,学校データ!$A$4,\"\")","v":"南部"},null,null,null,null,null,null,null,null,null,{"$f":"学校データ!$G$6","v":0},{"$f":"学校データ!$I$6","v":"福岡県"}]
["","","","","","","","",78,null,{"$f":"学校データ!$C$6","v":0},{"$f":"+IF(学校データ!$A$4>0,学校データ!$A$4,\"\")","v":"南部"},null,null,null,null,null,null,null,null,null,{"$f":"学校データ!$G$6","v":0},{"$f":"学校データ!$I$6","v":"福岡県"}]
["","","","","","","","",79,null,{"$f":"学校データ!$C$6","v":0},{"$f":"+IF(学校データ!$A$4>0,学校データ!$A$4,\"\")","v":"南部"},null,null,null,null,null,null,null,null,null,{"$f":"学校データ!$G$6","v":0},{"$f":"学校データ!$I$6","v":"福岡県"}]
["","","","","","","","",80,null,{"$f":"学校データ!$C$6","v":0},{"$f":"+IF(学校データ!$A$4>0,学校データ!$A$4,\"\")","v":"南部"},null,null,null,null,null,null,null,null,null,{"$f":"学校データ!$G$6","v":0},{"$f":"学校データ!$I$6","v":"福岡県"}]
["","","","","","","","",81,null,{"$f":"学校データ!$C$6","v":0},{"$f":"+IF(学校データ!$A$4>0,学校データ!$A$4,\"\")","v":"南部"},null,null,null,null,null,null,null,null,null,{"$f":"学校データ!$G$6","v":0},{"$f":"学校データ!$I$6","v":"福岡県"}]
["","","","","","","","",82,null,{"$f":"学校データ!$C$6","v":0},{"$f":"+IF(学校データ!$A$4>0,学校データ!$A$4,\"\")","v":"南部"},null,null,null,null,null,null,null,null,null,{"$f":"学校データ!$G$6","v":0},{"$f":"学校データ!$I$6","v":"福岡県"}]
["","","","","","","","",83,null,{"$f":"学校データ!$C$6","v":0},{"$f":"+IF(学校データ!$A$4>0,学校データ!$A$4,\"\")","v":"南部"},null,null,null,null,null,null,null,null,null,{"$f":"学校データ!$G$6","v":0},{"$f":"学校データ!$I$6","v":"福岡県"}]
["","","","","","","","",84,null,{"$f":"学校データ!$C$6","v":0},{"$f":"+IF(学校データ!$A$4>0,学校データ!$A$4,\"\")","v":"南部"},null,null,null,null,null,null,null,null,null,{"$f":"学校データ!$G$6","v":0},{"$f":"学校データ!$I$6","v":"福岡県"}]
["","","","","","","","",85,null,{"$f":"学校データ!$C$6","v":0},{"$f":"+IF(学校データ!$A$4>0,学校データ!$A$4,\"\")","v":"南部"},null,null,null,null,null,null,null,null,null,{"$f":"学校データ!$G$6","v":0},{"$f":"学校データ!$I$6","v":"福岡県"}]
["","","","","","","","",86,null,{"$f":"学校データ!$C$6","v":0},{"$f":"+IF(学校データ!$A$4>0,学校データ!$A$4,\"\")","v":"南部"},null,null,null,null,null,null,null,null,null,{"$f":"学校データ!$G$6","v":0},{"$f":"学校データ!$I$6","v":"福岡県"}]
["","","","","","","","",87,null,{"$f":"学校データ!$C$6","v":0},{"$f":"+IF(学校データ!$A$4>0,学校データ!$A$4,\"\")","v":"南部"},null,null,null,null,null,null,null,null,null,{"$f":"学校データ!$G$6","v":0},{"$f":"学校データ!$I$6","v":"福岡県"}]
["","","","","","","","",88,null,{"$f":"学校データ!$C$6","v":0},{"$f":"+IF(学校データ!$A$4>0,学校データ!$A$4,\"\")","v":"南部"},null,null,null,null,null,null,null,null,null,{"$f":"学校データ!$G$6","v":0},{"$f":"学校データ!$I$6","v":"福岡県"}]
["","","","","","","","",89,null,{"$f":"学校データ!$C$6","v":0},{"$f":"+IF(学校データ!$A$4>0,学校データ!$A$4,\"\")","v":"南部"},null,null,null,null,null,null,null,null,null,{"$f":"学校データ!$G$6","v":0},{"$f":"学校データ!$I$6","v":"福岡県"}]
["","","","","","","","",90,null,{"$f":"学校データ!$C$6","v":0},{"$f":"+IF(学校データ!$A$4>0,学校データ!$A$4,\"\")","v":"南部"},null,null,null,null,null,null,null,null,null,{"$f":"学校データ!$G$6","v":0},{"$f":"学校データ!$I$6","v":"福岡県"}]
["","","","","","","","",91,null,{"$f":"学校データ!$C$6","v":0},{"$f":"+IF(学校データ!$A$4>0,学校データ!$A$4,\"\")","v":"南部"},null,null,null,null,null,null,null,null,null,{"$f":"学校データ!$G$6","v":0},{"$f":"学校データ!$I$6","v":"福岡県"}]
["","","","","","","","",92,null,{"$f":"学校データ!$C$6","v":0},{"$f":"+IF(学校データ!$A$4>0,学校データ!$A$4,\"\")","v":"南部"},null,null,null,null,null,null,null,null,null,{"$f":"学校データ!$G$6","v":0},{"$f":"学校データ!$I$6","v":"福岡県"}]
["","","","","","","","",93,null,{"$f":"学校データ!$C$6","v":0},{"$f":"+IF(学校データ!$A$4>0,学校データ!$A$4,\"\")","v":"南部"},null,null,null,null,null,null,null,null,null,{"$f":"学校データ!$G$6","v":0},{"$f":"学校データ!$I$6","v":"福岡県"}]
["","","","","","","","",94,null,{"$f":"学校データ!$C$6","v":0},{"$f":"+IF(学校データ!$A$4>0,学校データ!$A$4,\"\")","v":"南部"},null,null,null,null,null,null,null,null,null,{"$f":"学校データ!$G$6","v":0},{"$f":"学校データ!$I$6","v":"福岡県"}]
["","","","","","","","",95,null,{"$f":"学校データ!$C$6","v":0},{"$f":"+IF(学校データ!$A$4>0,学校データ!$A$4,\"\")","v":"南部"},null,null,null,null,null,null,null,null,null,{"$f":"学校データ!$G$6","v":0},{"$f":"学校データ!$I$6","v":"福岡県"}]
["","","","","","","","",96,null,{"$f":"学校データ!$C$6","v":0},{"$f":"+IF(学校データ!$A$4>0,学校データ!$A$4,\"\")","v":"南部"},null,null,null,null,null,null,null,null,null,{"$f":"学校データ!$G$6","v":0},{"$f":"学校データ!$I$6","v":"福岡県"}]
["","","","","","","","",97,null,{"$f":"学校データ!$C$6","v":0},{"$f":"+IF(学校データ!$A$4>0,学校データ!$A$4,\"\")","v":"南部"},null,null,null,null,null,null,null,null,null,{"$f":"学校データ!$G$6","v":0},{"$f":"学校データ!$I$6","v":"福岡県"}]
["","","","","","","","",98,null,{"$f":"学校データ!$C$6","v":0},{"$f":"+IF(学校データ!$A$4>0,学校データ!$A$4,\"\")","v":"南部"},null,null,null,null,null,null,null,null,null,{"$f":"学校データ!$G$6","v":0},{"$f":"学校データ!$I$6","v":"福岡県"}]
["","","","","","","","",99,null,{"$f":"学校データ!$C$6","v":0},{"$f":"+IF(学校データ!$A$4>0,学校データ!$A$4,\"\")","v":"南部"},null,null,null,null,null,null,null,null,null,{"$f":"学校データ!$G$6","v":0},{"$f":"学校データ!$I$6","v":"福岡県"}]
["","","","","","","","",100,null,{"$f":"学校データ!$C$6","v":0},{"$f":"+IF(学校データ!$A$4>0,学校データ!$A$4,\"\")","v":"南部"},null,null,null,null,null,null,null,null,null,{"$f":"学校データ!$G$6","v":0},{"$f":"学校データ!$I$6","v":"福岡県"}]
["","","","","","","","",101,null,{"$f":"学校データ!$C$6","v":0},{"$f":"+IF(学校データ!$A$4>0,学校データ!$A$4,\"\")","v":"南部"},null,null,null,null,null,null,null,null,null,{"$f":"学校データ!$G$6","v":0},{"$f":"学校データ!$I$6","v":"福岡県"}]
["","","","","","","","",102,null,{"$f":"学校データ!$C$6","v":0},{"$f":"+IF(学校データ!$A$4>0,学校データ!$A$4,\"\")","v":"南部"},null,null,null,null,null,null,null,null,null,{"$f":"学校データ!$G$6","v":0},{"$f":"学校データ!$I$6","v":"福岡県"}]
["","","","","","","","",103,null,{"$f":"学校データ!$C$6","v":0},{"$f":"+IF(学校データ!$A$4>0,学校データ!$A$4,\"\")","v":"南部"},null,null,null,null,null,null,null,null,null,{"$f":"学校データ!$G$6","v":0},{"$f":"学校データ!$I$6","v":"福岡県"}]
["","","","","","","","",104,null,{"$f":"学校データ!$C$6","v":0},{"$f":"+IF(学校データ!$A$4>0,学校データ!$A$4,\"\")","v":"南部"},null,null,null,null,null,null,null,null,null,{"$f":"学校データ!$G$6","v":0},{"$f":"学校データ!$I$6","v":"福岡県"}]
["","","","","","","","",105,null,{"$f":"学校データ!$C$6","v":0},{"$f":"+IF(学校データ!$A$4>0,学校データ!$A$4,\"\")","v":"南部"},null,null,null,null,null,null,null,null,null,{"$f":"学校データ!$G$6","v":0},{"$f":"学校データ!$I$6","v":"福岡県"}]
["","","","","","","","",106,null,{"$f":"学校データ!$C$6","v":0},{"$f":"+IF(学校データ!$A$4>0,学校データ!$A$4,\"\")","v":"南部"},null,null,null,null,null,null,null,null,null,{"$f":"学校データ!$G$6","v":0},{"$f":"学校データ!$I$6","v":"福岡県"}]
["","","","","","","","",107,null,{"$f":"学校データ!$C$6","v":0},{"$f":"+IF(学校データ!$A$4>0,学校データ!$A$4,\"\")","v":"南部"},null,null,null,null,null,null,null,null,null,{"$f":"学校データ!$G$6","v":0},{"$f":"学校データ!$I$6","v":"福岡県"}]
["","","","","","","","",108,null,{"$f":"学校データ!$C$6","v":0},{"$f":"+IF(学校データ!$A$4>0,学校データ!$A$4,\"\")","v":"南部"},null,null,null,null,null,null,null,null,null,{"$f":"学校データ!$G$6","v":0},{"$f":"学校データ!$I$6","v":"福岡県"}]
["","","","","","","","",109,null,{"$f":"学校データ!$C$6","v":0},{"$f":"+IF(学校データ!$A$4>0,学校データ!$A$4,\"\")","v":"南部"},null,null,null,null,null,null,null,null,null,{"$f":"学校データ!$G$6","v":0},{"$f":"学校データ!$I$6","v":"福岡県"}]
["","","","","","","","",110,null,{"$f":"学校データ!$C$6","v":0},{"$f":"+IF(学校データ!$A$4>0,学校データ!$A$4,\"\")","v":"南部"},null,null,null,null,null,null,null,null,null,{"$f":"学校データ!$G$6","v":0},{"$f":"学校データ!$I$6","v":"福岡県"}]
["","","","","","","","",111,null,{"$f":"学校データ!$C$6","v":0},{"$f":"+IF(学校データ!$A$4>0,学校データ!$A$4,\"\")","v":"南部"},null,null,null,null,null,null,null,null,null,{"$f":"学校データ!$G$6","v":0},{"$f":"学校データ!$I$6","v":"福岡県"}]
["","","","","","","","",112,null,{"$f":"学校データ!$C$6","v":0},{"$f":"+IF(学校データ!$A$4>0,学校データ!$A$4,\"\")","v":"南部"},null,null,null,null,null,null,null,null,null,{"$f":"学校データ!$G$6","v":0},{"$f":"学校データ!$I$6","v":"福岡県"}]
["","","","","","","","",113,null,{"$f":"学校データ!$C$6","v":0},{"$f":"+IF(学校データ!$A$4>0,学校データ!$A$4,\"\")","v":"南部"},null,null,null,null,null,null,null,null,null,{"$f":"学校データ!$G$6","v":0},{"$f":"学校データ!$I$6","v":"福岡県"}]
["","","","","","","","",114,null,{"$f":"学校データ!$C$6","v":0},{"$f":"+IF(学校データ!$A$4>0,学校データ!$A$4,\"\")","v":"南部"},null,null,null,null,null,null,null,null,null,{"$f":"学校データ!$G$6","v":0},{"$f":"学校データ!$I$6","v":"福岡県"}]
["","","","","","","","",115,null,{"$f":"学校データ!$C$6","v":0},{"$f":"+IF(学校データ!$A$4>0,学校データ!$A$4,\"\")","v":"南部"},null,null,null,null,null,null,null,null,null,{"$f":"学校データ!$G$6","v":0},{"$f":"学校データ!$I$6","v":"福岡県"}]
["","","","","","","","",116,null,{"$f":"学校データ!$C$6","v":0},{"$f":"+IF(学校データ!$A$4>0,学校データ!$A$4,\"\")","v":"南部"},null,null,null,null,null,null,null,null,null,{"$f":"学校データ!$G$6","v":0},{"$f":"学校データ!$I$6","v":"福岡県"}]
["","","","","","","","",117,null,{"$f":"学校データ!$C$6","v":0},{"$f":"+IF(学校データ!$A$4>0,学校データ!$A$4,\"\")","v":"南部"},null,null,null,null,null,null,null,null,null,{"$f":"学校データ!$G$6","v":0},{"$f":"学校データ!$I$6","v":"福岡県"}]
["","","","","","","","",118,null,{"$f":"学校データ!$C$6","v":0},{"$f":"+IF(学校データ!$A$4>0,学校データ!$A$4,\"\")","v":"南部"},null,null,null,null,null,null,null,null,null,{"$f":"学校データ!$G$6","v":0},{"$f":"学校データ!$I$6","v":"福岡県"}]
["","","","","","","","",119,null,{"$f":"学校データ!$C$6","v":0},{"$f":"+IF(学校データ!$A$4>0,学校データ!$A$4,\"\")","v":"南部"},null,null,null,null,null,null,null,null,null,{"$f":"学校データ!$G$6","v":0},{"$f":"学校データ!$I$6","v":"福岡県"}]
["","","","","","","","",120,null,{"$f":"学校データ!$C$6","v":0},{"$f":"+IF(学校データ!$A$4>0,学校データ!$A$4,\"\")","v":"南部"},null,null,null,null,null,null,null,null,null,{"$f":"学校データ!$G$6","v":0},{"$f":"学校データ!$I$6","v":"福岡県"}]
["","","","","","","","",121,null,{"$f":"学校データ!$C$6","v":0},{"$f":"+IF(学校データ!$A$4>0,学校データ!$A$4,\"\")","v":"南部"},null,null,null,null,null,null,null,null,null,{"$f":"学校データ!$G$6","v":0},{"$f":"学校データ!$I$6","v":"福岡県"}]
["","","","","","","","",122,null,{"$f":"学校データ!$C$6","v":0},{"$f":"+IF(学校データ!$A$4>0,学校データ!$A$4,\"\")","v":"南部"},null,null,null,null,null,null,null,null,null,{"$f":"学校データ!$G$6","v":0},{"$f":"学校データ!$I$6","v":"福岡県"}]
["","","","","","","","",123,null,{"$f":"学校データ!$C$6","v":0},{"$f":"+IF(学校データ!$A$4>0,学校データ!$A$4,\"\")","v":"南部"},null,null,null,null,null,null,null,null,null,{"$f":"学校データ!$G$6","v":0},{"$f":"学校データ!$I$6","v":"福岡県"}]
["","","","","","","","",124,null,{"$f":"学校データ!$C$6","v":0},{"$f":"+IF(学校データ!$A$4>0,学校データ!$A$4,\"\")","v":"南部"},null,null,null,null,null,null,null,null,null,{"$f":"学校データ!$G$6","v":0},{"$f":"学校データ!$I$6","v":"福岡県"}]
["","","","","","","","",125,null,{"$f":"学校データ!$C$6","v":0},{"$f":"+IF(学校データ!$A$4>0,学校データ!$A$4,\"\")","v":"南部"},null,null,null,null,null,null,null,null,null,{"$f":"学校データ!$G$6","v":0},{"$f":"学校データ!$I$6","v":"福岡県"}]
["","","","","","","","",126,null,{"$f":"学校データ!$C$6","v":0},{"$f":"+IF(学校データ!$A$4>0,学校データ!$A$4,\"\")","v":"南部"},null,null,null,null,null,null,null,null,null,{"$f":"学校データ!$G$6","v":0},{"$f":"学校データ!$I$6","v":"福岡県"}]
["","","","","","","","",127,null,{"$f":"学校データ!$C$6","v":0},{"$f":"+IF(学校データ!$A$4>0,学校データ!$A$4,\"\")","v":"南部"},null,null,null,null,null,null,null,null,null,{"$f":"学校データ!$G$6","v":0},{"$f":"学校データ!$I$6","v":"福岡県"}]
["","","","","","","","",128,null,{"$f":"学校データ!$C$6","v":0},{"$f":"+IF(学校データ!$A$4>0,学校データ!$A$4,\"\")","v":"南部"},null,null,null,null,null,null,null,null,null,{"$f":"学校データ!$G$6","v":0},{"$f":"学校データ!$I$6","v":"福岡県"}]
[{"$f":"+IF(AND(R132=\"男\",OR(N132=\"新規\",N132=\"継続\")),ROW(),\"\")","v":""},"","","","","","","",129,null,{"$f":"学校データ!$C$6","v":0},{"$f":"+IF(学校データ!$A$4>0,学校データ!$A$4,\"\")","v":"南部"},null,null,null,null,null,null,null,null,null,{"$f":"学校データ!$G$6","v":0},{"$f":"学校データ!$I$6","v":"福岡県"}]
["",{"$f":"+IF(AND(R133=\"女\",OR(N133=\"新規\",N133=\"継続\")),ROW(),\"\")","v":""},{"$f":"+IF(J133>0,IF(AND(AND(N133=\"追加\",R133=\"男\"),RANK(J133,$J$4:$J$158,0)=1),ROW(),\"\"),\"\")","v":""},{"$f":"+IF(J133>0,IF(AND(AND(N133=\"追加\",R133=\"女\"),RANK(J133,$J$4:$J$153,0)=1),ROW(),\"\"),\"\")","v":""},{"$f":"+IF(A133=\"\",\"\",RANK(A133,A$4:A$153,1))","v":""},"","","",130,null,{"$f":"学校データ!$C$6","v":0},{"$f":"+IF(学校データ!$A$4>0,学校データ!$A$4,\"\")","v":"南部"},null,null,null,null,null,null,null,null,null,{"$f":"学校データ!$G$6","v":0},{"$f":"学校データ!$I$6","v":"福岡県"}]
["","","","","","","","",131,null,{"$f":"学校データ!$C$6","v":0},{"$f":"+IF(学校データ!$A$4>0,学校データ!$A$4,\"\")","v":"南部"},null,null,null,null,null,null,null,null,null,{"$f":"学校データ!$G$6","v":0},{"$f":"学校データ!$I$6","v":"福岡県"}]
["","","","","","","","",132,null,{"$f":"学校データ!$C$6","v":0},{"$f":"+IF(学校データ!$A$4>0,学校データ!$A$4,\"\")","v":"南部"},null,null,null,null,null,null,null,null,null,{"$f":"学校データ!$G$6","v":0},{"$f":"学校データ!$I$6","v":"福岡県"}]
["","","","","","","","",133,null,{"$f":"学校データ!$C$6","v":0},{"$f":"+IF(学校データ!$A$4>0,学校データ!$A$4,\"\")","v":"南部"},null,null,null,null,null,null,null,null,null,{"$f":"学校データ!$G$6","v":0},{"$f":"学校データ!$I$6","v":"福岡県"}]
["","","","","","","","",134,null,{"$f":"学校データ!$C$6","v":0},{"$f":"+IF(学校データ!$A$4>0,学校データ!$A$4,\"\")","v":"南部"},null,null,null,null,null,null,null,null,null,{"$f":"学校データ!$G$6","v":0},{"$f":"学校データ!$I$6","v":"福岡県"}]
["","","","","","","","",135,null,{"$f":"学校データ!$C$6","v":0},{"$f":"+IF(学校データ!$A$4>0,学校データ!$A$4,\"\")","v":"南部"},null,null,null,null,null,null,null,null,null,{"$f":"学校データ!$G$6","v":0},{"$f":"学校データ!$I$6","v":"福岡県"}]
["","","","","","","","",136,null,{"$f":"学校データ!$C$6","v":0},{"$f":"+IF(学校データ!$A$4>0,学校データ!$A$4,\"\")","v":"南部"},null,null,null,null,null,null,null,null,null,{"$f":"学校データ!$G$6","v":0},{"$f":"学校データ!$I$6","v":"福岡県"}]
["","","","","","","","",137,null,{"$f":"学校データ!$C$6","v":0},{"$f":"+IF(学校データ!$A$4>0,学校データ!$A$4,\"\")","v":"南部"},null,null,null,null,null,null,null,null,null,{"$f":"学校データ!$G$6","v":0},{"$f":"学校データ!$I$6","v":"福岡県"}]
["","","","","","","","",138,null,{"$f":"学校データ!$C$6","v":0},{"$f":"+IF(学校データ!$A$4>0,学校データ!$A$4,\"\")","v":"南部"},null,null,null,null,null,null,null,null,null,{"$f":"学校データ!$G$6","v":0},{"$f":"学校データ!$I$6","v":"福岡県"}]
["","","","","","","","",139,null,{"$f":"学校データ!$C$6","v":0},{"$f":"+IF(学校データ!$A$4>0,学校データ!$A$4,\"\")","v":"南部"},null,null,null,null,null,null,null,null,null,{"$f":"学校データ!$G$6","v":0},{"$f":"学校データ!$I$6","v":"福岡県"}]
["","","","","","","","",140,null,{"$f":"学校データ!$C$6","v":0},{"$f":"+IF(学校データ!$A$4>0,学校データ!$A$4,\"\")","v":"南部"},null,null,null,null,null,null,null,null,null,{"$f":"学校データ!$G$6","v":0},{"$f":"学校データ!$I$6","v":"福岡県"}]
["","","","","","","","",141,null,{"$f":"学校データ!$C$6","v":0},{"$f":"+IF(学校データ!$A$4>0,学校データ!$A$4,\"\")","v":"南部"},null,null,null,null,null,null,null,null,null,{"$f":"学校データ!$G$6","v":0},{"$f":"学校データ!$I$6","v":"福岡県"}]
["","","","","","","","",142,null,{"$f":"学校データ!$C$6","v":0},{"$f":"+IF(学校データ!$A$4>0,学校データ!$A$4,\"\")","v":"南部"},null,null,null,null,null,null,null,null,null,{"$f":"学校データ!$G$6","v":0},{"$f":"学校データ!$I$6","v":"福岡県"}]
["","","","","","","","",143,null,{"$f":"学校データ!$C$6","v":0},{"$f":"+IF(学校データ!$A$4>0,学校データ!$A$4,\"\")","v":"南部"},null,null,null,null,null,null,null,null,null,{"$f":"学校データ!$G$6","v":0},{"$f":"学校データ!$I$6","v":"福岡県"}]
["","","","","","","","",144,null,{"$f":"学校データ!$C$6","v":0},{"$f":"+IF(学校データ!$A$4>0,学校データ!$A$4,\"\")","v":"南部"},null,null,null,null,null,null,null,null,null,{"$f":"学校データ!$G$6","v":0},{"$f":"学校データ!$I$6","v":"福岡県"}]
["","","","","","","","",145,null,{"$f":"学校データ!$C$6","v":0},{"$f":"+IF(学校データ!$A$4>0,学校データ!$A$4,\"\")","v":"南部"},null,null,null,null,null,null,null,null,null,{"$f":"学校データ!$G$6","v":0},{"$f":"学校データ!$I$6","v":"福岡県"}]
["","","","","","","","",146,null,{"$f":"学校データ!$C$6","v":0},{"$f":"+IF(学校データ!$A$4>0,学校データ!$A$4,\"\")","v":"南部"},null,null,null,null,null,null,null,null,null,{"$f":"学校データ!$G$6","v":0},{"$f":"学校データ!$I$6","v":"福岡県"}]
["","","","","","","","",147,null,{"$f":"学校データ!$C$6","v":0},{"$f":"+IF(学校データ!$A$4>0,学校データ!$A$4,\"\")","v":"南部"},null,null,null,null,null,null,null,null,null,{"$f":"学校データ!$G$6","v":0},{"$f":"学校データ!$I$6","v":"福岡県"}]
["","","","","","","","",148,null,{"$f":"学校データ!$C$6","v":0},{"$f":"+IF(学校データ!$A$4>0,学校データ!$A$4,\"\")","v":"南部"},null,null,null,null,null,null,null,null,null,{"$f":"学校データ!$G$6","v":0},{"$f":"学校データ!$I$6","v":"福岡県"}]
["","","","","","","","",149,null,{"$f":"学校データ!$C$6","v":0},{"$f":"+IF(学校データ!$A$4>0,学校データ!$A$4,\"\")","v":"南部"},null,null,null,null,null,null,null,null,null,{"$f":"学校データ!$G$6","v":0},{"$f":"学校データ!$I$6","v":"福岡県"}]
["","","","","","","","",150,null,{"$f":"学校データ!$C$6","v":0},{"$f":"+IF(学校データ!$A$4>0,学校データ!$A$4,\"\")","v":"南部"},null,null,null,null,null,null,null,null,null,{"$f":"学校データ!$G$6","v":0},{"$f":"学校データ!$I$6","v":"福岡県"}]

{"sheet":"ｲﾝﾀｰﾊｲ","index":2,"n_rows":63,"n_cols":17,"rows_kept":63,"cut":false,"hidden":false,"merged":[[61,8,62,9],[61,10,62,10],[1,2,1,15],[61,1,62,3],[10,15,11,15],[61,15,61,16],[61,11,62,11],[10,1,11,1],[10,2,11,3],[10,10,10,14],[10,4,10,9],[11,7,11,9],[61,5,61,7],[62,5,62,7]]}
[null,null,null,null,3,5,6,7,8,9]
[null,null,{"$f":"学校データ!$A$2&DBCS(学校データ!$B$2)&学校データ!$C$2&\" 全国高等学校陸上競技対校選手権大会福岡県南部ブロック予選会　参加申込書\"","v":"令和７年度 全国高等学校陸上競技対校選手権大会福岡県南部ブロック予選会　参加申込書"},null,null,null,null,null,null,null,null,null,null,null,null,null,"Ａ　票"]
[]
[null,{"$f":"学校データ!$A$2&DBCS(学校データ!$B$2)&\"年\"","v":"令和７年"},null,null,"月　日",null,null,null,null,null,null,null,"学校所在地",null,{"$f":"学校データ!$J$6","v":0}]
[null,null,null,null,null,null,null,null,null,null,null,null,"学　校　名",null,{"$f":"学校データ!$D$6&学校データ!$E$6","v":"高等学校"}]
[null,null,null,null,null,null,null,null,null,null,null,null,"学 校 長 名",null,{"$f":"学校データ!$M$6","v":0},null,"職印"]
[null,null,null,null,null,null,null,null,null,null,null,null,"担当教師名",null,{"$f":"学校データ!$N$6","v":0},null,"印"]
[]
[null,null,"下記の者は本校在学生徒で大会出場を認め、参加申込みをいたします。"]
[null,null,"高体連個人情報に関する保護規定を承認した上で参加申込みをすることに同意します。"]
[null,"No.","登録番号",null,"出　　場　　者",null,null,null,null,null,"種　　　　　目",null,null,null,null,"健康診断結果","入学(編転入学)"]
[null,null,null,null,"氏　　名","学年","性別","生年月日",null,null,"個　人","個　人","個　人","400R","1600R",null,"年月日"]
[null,1,"A",null,{"$f":"IF(ISERROR(VLOOKUP($D13,選手名簿,E$1,FALSE)),\"\",VLOOKUP($D13,選手名簿,E$1,FALSE))","v":""},"","","","",""]
[null,2,"A",null,"","","","","",""]
[null,3,"A",null,"","","","","",""]
[null,4,"A",null,"","","","","",""]
[null,5,"A",null,"","","","","",""]
[null,6,"A",null,"","","","","",""]
[null,7,"A",null,"","","","","",""]
[null,8,"A",null,"","","","","",""]
[null,9,"A",null,"","","","","",""]
[null,10,"A",null,"","","","","",""]
[null,11,"A",null,{"$f":"IF(ISERROR(VLOOKUP($D23,選手名簿,E$1,FALSE)),\"\",VLOOKUP($D23,選手名簿,E$1,FALSE))","v":""},"","","","",""]
[null,12,"A",null,"","","","","",""]
[null,13,"A",null,"","","","","",""]
[null,14,"A",null,"","","","","",""]
[null,15,"A",null,"","","","","",""]
[null,16,"A",null,"","","","","",""]
[null,17,"A",null,"","","","","",""]
[null,18,"A",null,"","","","","",""]
[null,19,"A",null,"","","","","",""]
[null,20,"A",null,"","","","","",""]
[null,21,"A",null,{"$f":"IF(ISERROR(VLOOKUP($D33,選手名簿,E$1,FALSE)),\"\",VLOOKUP($D33,選手名簿,E$1,FALSE))","v":""},"","","","",""]
[null,22,"A",null,"","","","","",""]
[null,23,"A",null,"","","","","",""]
[null,24,"A",null,"","","","","",""]
[null,25,"A",null,"","","","","",""]
[null,26,"A",null,"","","","","",""]
[null,27,"A",null,"","","","","",""]
[null,28,"A",null,"","","","","",""]
[null,29,"A",null,"","","","","",""]
[null,30,"A",null,"","","","","",""]
[null,31,"A",null,{"$f":"IF(ISERROR(VLOOKUP($D43,選手名簿,E$1,FALSE)),\"\",VLOOKUP($D43,選手名簿,E$1,FALSE))","v":""},"","","","",""]
[null,32,"A",null,"","","","","",""]
[null,33,"A",null,"","","","","",""]
[null,34,"A",null,"","","","","",""]
[null,35,"A",null,"","","","","",""]
[null,36,"A",null,"","","","","",""]
[null,37,"A",null,"","","","","",""]
[null,38,"A",null,"","","","","",""]
[null,39,"A",null,"","","","","",""]
[null,40,"A",null,"","","","","",""]
[null,41,"A",null,{"$f":"IF(ISERROR(VLOOKUP($D53,選手名簿,E$1,FALSE)),\"\",VLOOKUP($D53,選手名簿,E$1,FALSE))","v":""},"","","","",""]
[null,42,"A",null,"","","","","",""]
[null,43,"A",null,"","","","","",""]
[null,44,"A",null,"","","","","",""]
[null,45,"A",null,"","","","","",""]
[null,46,"A",null,"","","","","",""]
[null,47,"A",null,"","","","","",""]
[null,48,"A",null,"","","","","",""]
[null,"例","A",55,"南部　太郎",3,"男",2007,"08.","09",100,200,"ﾎ 走幅跳","○",null,"異常なし","2023-04-07"]
[null,"審判教師名",null,null,{"$f":"学校データ!$N$6","v":0},null,null,null,"補助員数",null,null,"参加選手数","男子",{"$f":"COUNTIF($G$13:$G$60,\"男\")","v":0},"名","総合計(補助員は除く)"]
[null,null,null,null,{"$f":"学校データ!$O$6","v":0},null,null,null,null,null,null,null,"女子",{"$f":"COUNTIF($G$13:$G$60,\"女\")","v":0},"名",{"$f":"N62+N63","v":0},"名"]

{"sheet":"ＡＢ","index":3,"n_rows":63,"n_cols":17,"rows_kept":63,"cut":false,"hidden":false,"merged":[[61,5,61,6],[62,5,62,6],[61,7,62,7],[61,8,62,9],[1,2,1,15],[10,10,10,14],[10,15,11,15],[61,10,62,10],[61,15,61,16],[3,1,3,3],[10,1,11,1],[10,2,11,3],[10,4,10,9],[11,7,11,9],[61,1,62,3]]}
[null,null,null,null,3,5,6,7,8,9]
[null,null,{"$f":"学校データ!$A$2&DBCS(学校データ!$B$2)&学校データ!$C$2&\"　福岡県高等学校陸上競技学年別大会南部ブロック予選会参加申込書\"","v":"令和７年度　福岡県高等学校陸上競技学年別大会南部ブロック予選会参加申込書"},null,null,null,null,null,null,null,null,null,null,null,null,null,"Ａ　票"]
[]
[null,{"$f":"学校データ!$A$2&DBCS(学校データ!$B$2)&\"年\"","v":"令和７年"},null,null," 　月　　日",null,null,null,null,null,null,"学校所在地",null,null,{"$f":"学校データ!$J$6","v":0}]
[null,null,null,null,null,null,null,null,null,null,null,"学校名",null,null,{"$f":"学校データ!$D$6&学校データ!$E$6","v":"高等学校"}]
[null,null,null,null,null,null,null,null,null,null,null,"学校長名",null,null,{"$f":"学校データ!$M$6","v":0},null,"職印"]
[null,null,null,null,null,null,null,null,null,null,null,"担当教師名",null,null,{"$f":"学校データ!$N$6","v":0},null,"印"]
[]
[null,null,"下記の者は本校在学生徒で大会出場を認め、参加申込みをいたします。"]
[null,null,"高体連個人情報に関する保護規定を承認した上で参加申込みをすることに同意します。"]
[null,"No.","登録番号",null,"出　　場　　者",null,null,null,null,null,"種　　　　　目",null,null,null,null,"健康診断結果","入学(編転入学)"]
[null,null,null,null,"氏　　名","学年","性別","生年月日",null,null,"個　人","個　人",null,"400R","1600R",null,"年月日"]
[null,1,"A",null,{"$f":"IF(ISERROR(VLOOKUP($D13,選手名簿,E$1,FALSE)),\"\",VLOOKUP($D13,選手名簿,E$1,FALSE))","v":""},"","","","",""]
[null,2,"A",null,"","","","","",""]
[null,3,"A",null,"","","","","",""]
[null,4,"A",null,"","","","","",""]
[null,5,"A",null,"","","","","",""]
[null,6,"A",null,"","","","","",""]
[null,7,"A",null,"","","","","",""]
[null,8,"A",null,"","","","","",""]
[null,9,"A",null,"","","","","",""]
[null,10,"A",null,"","","","","",""]
[null,11,"A",null,{"$f":"IF(ISERROR(VLOOKUP($D23,選手名簿,E$1,FALSE)),\"\",VLOOKUP($D23,選手名簿,E$1,FALSE))","v":""},"","","","",""]
[null,12,"A",null,"","","","","",""]
[null,13,"A",null,"","","","","",""]
[null,14,"A",null,"","","","","",""]
[null,15,"A",null,"","","","","",""]
[null,16,"A",null,"","","","","",""]
[null,17,"A",null,"","","","","",""]
[null,18,"A",null,"","","","","",""]
[null,19,"A",null,"","","","","",""]
[null,20,"A",null,"","","","","",""]
[null,21,"A",null,{"$f":"IF(ISERROR(VLOOKUP($D33,選手名簿,E$1,FALSE)),\"\",VLOOKUP($D33,選手名簿,E$1,FALSE))","v":""},"","","","",""]
[null,22,"A",null,"","","","","",""]
[null,23,"A",null,"","","","","",""]
[null,24,"A",null,"","","","","",""]
[null,25,"A",null,"","","","","",""]
[null,26,"A",null,"","","","","",""]
[null,27,"A",null,"","","","","",""]
[null,28,"A",null,"","","","","",""]
[null,29,"A",null,"","","","","",""]
[null,30,"A",null,"","","","","",""]
[null,31,"A",null,{"$f":"IF(ISERROR(VLOOKUP($D43,選手名簿,E$1,FALSE)),\"\",VLOOKUP($D43,選手名簿,E$1,FALSE))","v":""},"","","","",""]
[null,32,"A",null,"","","","","",""]
[null,33,"A",null,"","","","","",""]
[null,34,"A",null,"","","","","",""]
[null,35,"A",null,"","","","","",""]
[null,36,"A",null,"","","","","",""]
[null,37,"A",null,"","","","","",""]
[null,38,"A",null,"","","","","",""]
[null,39,"A",null,"","","","","",""]
[null,40,"A",null,"","","","","",""]
[null,41,"A",null,{"$f":"IF(ISERROR(VLOOKUP($D53,選手名簿,E$1,FALSE)),\"\",VLOOKUP($D53,選手名簿,E$1,FALSE))","v":""},"","","","",""]
[null,42,"A",null,"","","","","",""]
[null,43,"A",null,"","","","","",""]
[null,44,"A",null,"","","","","",""]
[null,45,"A",null,"","","","","",""]
[null,46,"A",null,"","","","","",""]
[null,47,"A",null,"","","","","",""]
[null,48,"A",null,"","","","","",""]
[null,"例","A",55,"南部　太郎",3,"男",2007,"08.","09",100,200,null,"○",null,"異常なし","2023-04-07"]
[null,"審判教師名",null,null,{"$f":"学校データ!$N$6","v":0},null,null,"補助員数",null,null,"参加選手数","男子",null,{"$f":"COUNTIF($G$13:$G$60,\"男\")","v":0},"名","総合計(補助員は除く)"]
[null,null,null,null,{"$f":"学校データ!$O$6","v":0},null,null,null,null,null,null,"女子",null,{"$f":"COUNTIF($G$13:$G$60,\"女\")","v":0},"名",{"$f":"N62+N63","v":0},"名"]

{"sheet":"新人","index":4,"n_rows":63,"n_cols":17,"rows_kept":63,"cut":false,"hidden":false,"merged":[[61,1,62,3],[61,15,61,16],[61,10,62,10],[61,5,61,6],[62,5,62,6],[61,7,62,7],[61,8,62,9],[10,15,11,15],[11,7,11,9],[1,2,1,15],[10,1,11,1],[10,2,11,3],[10,4,10,9],[10,10,10,14],[3,1,3,3]]}
[null,null,null,null,3,5,6,7,8,9]
[null,null,{"$f":"学校データ!$A$2&DBCS(学校データ!$B$2)&学校データ!$C$2&\"　福岡県高等学校新人陸上競技対校選手権大会南部ブロック予選会　参加申込書\"","v":"令和７年度　福岡県高等学校新人陸上競技対校選手権大会南部ブロック予選会　参加申込書"},null,null,null,null,null,null,null,null,null,null,null,null,null,"Ａ　票"]
[]
[null,{"$f":"学校データ!$A$2&DBCS(学校データ!$B$2)&\"年\"","v":"令和７年"},null,null,"月　日",null,null,null,null,null,null,"学校所在地",null,null,{"$f":"学校データ!$J$6","v":0}]
[null,null,null,null,null,null,null,null,null,null,null,"学校名",null,null,{"$f":"学校データ!$D$6&学校データ!$E$6","v":"高等学校"}]
[null,null,null,null,null,null,null,null,null,null,null,"学校長名",null,null,{"$f":"学校データ!$M$6","v":0},null,"職印"]
[null,null,null,null,null,null,null,null,null,null,null,"担当教師名",null,null,{"$f":"学校データ!$N$6","v":0},null,"印"]
[]
[null,null,"下記の者は本校在学生徒で大会出場を認め、参加申込みをいたします。"]
[null,null,"高体連個人情報に関する保護規定を承認した上で参加申込みをすることに同意します。"]
[null,"No.","登録番号",null,"出　　場　　者",null,null,null,null,null,"種　　　　　目",null,null,null,null,"健康診断結果","入学(編転入学)"]
[null,null,null,null,"氏　　名","学年","性別","生年月日",null,null,"個　人","個　人",null,"400R","1600R",null,"年月日"]
[null,1,"A",null,{"$f":"IF(ISERROR(VLOOKUP($D13,選手名簿,E$1,FALSE)),\"\",VLOOKUP($D13,選手名簿,E$1,FALSE))","v":""},"","","","",""]
[null,2,"A",null,"","","","","",""]
[null,3,"A",null,"","","","","",""]
[null,4,"A",null,"","","","","",""]
[null,5,"A",null,"","","","","",""]
[null,6,"A",null,"","","","","",""]
[null,7,"A",null,"","","","","",""]
[null,8,"A",null,"","","","","",""]
[null,9,"A",null,"","","","","",""]
[null,10,"A",null,"","","","","",""]
[null,11,"A",null,{"$f":"IF(ISERROR(VLOOKUP($D23,選手名簿,E$1,FALSE)),\"\",VLOOKUP($D23,選手名簿,E$1,FALSE))","v":""},"","","","",""]
[null,12,"A",null,"","","","","",""]
[null,13,"A",null,"","","","","",""]
[null,14,"A",null,"","","","","",""]
[null,15,"A",null,"","","","","",""]
[null,16,"A",null,"","","","","",""]
[null,17,"A",null,"","","","","",""]
[null,18,"A",null,"","","","","",""]
[null,19,"A",null,"","","","","",""]
[null,20,"A",null,"","","","","",""]
[null,21,"A",null,{"$f":"IF(ISERROR(VLOOKUP($D33,選手名簿,E$1,FALSE)),\"\",VLOOKUP($D33,選手名簿,E$1,FALSE))","v":""},"","","","",""]
[null,22,"A",null,"","","","","",""]
[null,23,"A",null,"","","","","",""]
[null,24,"A",null,"","","","","",""]
[null,25,"A",null,"","","","","",""]
[null,26,"A",null,"","","","","",""]
[null,27,"A",null,"","","","","",""]
[null,28,"A",null,"","","","","",""]
[null,29,"A",null,"","","","","",""]
[null,30,"A",null,"","","","","",""]
[null,31,"A",null,{"$f":"IF(ISERROR(VLOOKUP($D43,選手名簿,E$1,FALSE)),\"\",VLOOKUP($D43,選手名簿,E$1,FALSE))","v":""},"","","","",""]
[null,32,"A",null,"","","","","",""]
[null,33,"A",null,"","","","","",""]
[null,34,"A",null,"","","","","",""]
[null,35,"A",null,"","","","","",""]
[null,36,"A",null,"","","","","",""]
[null,37,"A",null,"","","","","",""]
[null,38,"A",null,"","","","","",""]
[null,39,"A",null,"","","","","",""]
[null,40,"A",null,"","","","","",""]
[null,41,"A",null,{"$f":"IF(ISERROR(VLOOKUP($D53,選手名簿,E$1,FALSE)),\"\",VLOOKUP($D53,選手名簿,E$1,FALSE))","v":""},"","","","",""]
[null,42,"A",null,"","","","","",""]
[null,43,"A",null,"","","","","",""]
[null,44,"A",null,"","","","","",""]
[null,45,"A",null,"","","","","",""]
[null,46,"A",null,"","","","","",""]
[null,47,"A",null,"","","","","",""]
[null,48,"A",null,"","","","","",""]
[null,"例","A",55,"南部　太郎",3,"男",2007,"08.","09",100,200,null,"○",null,"異常なし","2023-04-07"]
[null,"審判教師名",null,null,{"$f":"学校データ!$N$6","v":0},null,null,"補助員数",null,null,"参加選手数","男子",null,{"$f":"COUNTIF($G$13:$G$60,\"男\")","v":0},"名","総合計(補助員は除く)"]
[null,null,null,null,{"$f":"学校データ!$O$6","v":0},null,null,null,null,null,null,"女子",null,{"$f":"COUNTIF($G$13:$G$60,\"女\")","v":0},"名",{"$f":"N62+N63","v":0},"名"]

{"sheet":"男個票","index":5,"n_rows":33,"n_cols":232,"rows_kept":33,"cut":false,"hidden":false,"merged":[[26,2,31,2],[26,6,31,6],[26,7,31,7],[32,2,37,2],[32,6,37,6],[32,7,37,7]]}
[null,null,null,null,3,5,10,null,null,null,3,5,10,null,null,null,3,5,10,3]
[null,null,null,"右のボタンをクリックして下さい"]
[null,null,"男子","プログラム編成用紙",null,null,null,null,null,null,null,"Ｂ　　票",null,null,"男子",null,null,null,null,null,"男子"]
[]
["種目名","申数","種　目","番号","氏　名","学年","校　名","最高記録","種　目","番号","氏　名","学年","校　名","最高記録","種　目","番号","氏　名","学年","校　名","最高記録","種　目","番号","氏　名"]
["100m",0,"１００ｍ",null,null,null,null,null,"１００ｍ",null,null,null,null,null,"１００ｍ",null,null,null,null,null,"１００ｍ",null,null,null,null,null,null,null,null,null,null,null,null,null,null,null,null,null,null,null,null,null,null,null,null,null,null,null,null,null,null,null,null,null,null,null,null,null,null,null,null,null,null,null,null,null,null,null,null,null,null,null,712,"横溝　純平",3,"八女",null,null,null,null,null,null,null,null,713,"安達　竜太",2,"八女",null,null,null,null,null,null,null,null,714,"石本　和哉",2,"八女",null,null,null,null,null,null,null,null,null,null,null,null,null,null,null,null,null,null,null,null,null,null,null,null,null,null,null,null,null,null,null,null,null,null,null,null,null,null,null,null,null,null,null,null,null,null,null,null,null,null,null,null,null,null,null,null,null,null,null,null,null,null,null,null,null,null,null,null,null,null,null,null,null,null,null,null,null,null,null,null,null,null,null,null,null,null,null,null,null,null,null,null,null,null,null,null,null,null,null,null,null,null,null,null,null,null,null,null,null,null,null,null,null,null,null,null,null,null,null,null,null,null,null,null,null,null,null,null,725,"山下　泰弘",2,"八女"]
["200m",0,"２００ｍ",null,null,null,null,null,"２００ｍ",null,null,null,null,null,"２００ｍ",null,null,null,null,null,"２００ｍ"]
["400m",0,"４００ｍ",null,null,null,null,null,"４００ｍ",null,null,null,null,null,"４００ｍ",null,null,null,null,null,"４００ｍ"]
["800m",0,"８００ｍ",null,null,null,null,null,"８００ｍ",null,null,null,null,null,"８００ｍ",null,null,null,null,null,"８００ｍ"]
["1500m",0,"１,５００ｍ",null,null,null,null,null,"１,５００ｍ",null,null,null,null,null,"１,５００ｍ",null,null,null,null,null,"１,５００ｍ"]
["3000m",0,"３,０００ｍ",null,null,null,null,null,"３,０００ｍ",null,null,null,null,null,"３,０００ｍ",null,null,null,null,null,"３,０００ｍ"]
["5000m",0,"５,０００ｍ",null,null,null,null,null,"５,０００ｍ",null,null,null,null,null,"５,０００ｍ",null,null,null,null,null,"５,０００ｍ"]
["110mJH",0,"１１０ｍJH",null,null,null,null,null,"１１０ｍJH",null,null,null,null,null,"１１０ｍJH",null,null,null,null,null,"１１０ｍJH"]
["110mH",0,"１１０ｍＨ",null,null,null,null,null,"１１０ｍＨ",null,null,null,null,null,"１１０ｍＨ",null,null,null,null,null,"１１０ｍＨ"]
["400mH",0,"４００ｍＨ",null,null,null,null,null,"４００ｍＨ",null,null,null,null,null,"４００ｍＨ",null,null,null,null,null,"４００ｍＨ"]
["3000mSC",0,"３０００ｍSC",null,null,null,null,null,"３０００ｍSC",null,null,null,null,null,"３０００ｍSC",null,null,null,null,null,"３０００ｍSC"]
["5000mW",0,"５０００ｍＷ",null,null,null,null,null,"５０００ｍＷ",null,null,null,null,null,"５０００ｍＷ",null,null,null,null,null,"５０００ｍＷ"]
["走高跳",0,"走　高　跳",null,null,null,null,null,"走　高　跳",null,null,null,null,null,"走　高　跳",null,null,null,null,null,"走　高　跳"]
["棒高跳",0,"棒　高　跳",null,null,null,null,null,"棒　高　跳",null,null,null,null,null,"棒　高　跳",null,null,null,null,null,"棒　高　跳"]
["走幅跳",0,"走　幅　跳",null,null,null,null,null,"走　幅　跳",null,null,null,null,null,"走　幅　跳",null,null,null,null,null,"走　幅　跳"]
["三段跳",0,"三　段　跳",null,null,null,null,null,"三　段　跳",null,null,null,null,null,"三　段　跳",null,null,null,null,null,"三　段　跳"]
["砲丸投",0,"砲　丸　投",null,null,null,null,null,"砲　丸　投",null,null,null,null,null,"砲　丸　投",null,null,null,null,null,"砲　丸　投"]
["円盤投",0,"円　盤　投",null,null,null,null,null,"円　盤　投",null,null,null,null,null,"円　盤　投",null,null,null,null,null,"円　盤　投"]
["やり投",0,"や　り　投",null,null,null,null,null,"や　り　投",null,null,null,null,null,"や　り　投",null,null,null,null,null,"や　り　投"]
["ﾊﾝﾏｰ投",0,"ハンマー投",null,null,null,null,null,"ハンマー投",null,null,null,null,null,"ハンマー投",null,null,null,null,null,"ハンマー投"]
["８種競技",0,"８種競技",null,null,null,null,null,"８種競技",null,null,null,null,null,"８種競技",null,null,null,null,null,"８種競技"]
[null,0,"４００ｍＲ"]
[null,null,null,null,null,null,null,null,"注意事項：",null,"①　登録番号は本年度陸連登録の番号を必ず記入してください。"]
[null,null,null,null,null,null,null,null,null,null,"②　校名には「高校」は記入しないでください。例）三池工・八女"]
[null,null,null,null,null,null,null,null,null,null,"③  番号の前の「Ａ」は省いてください。"]
[null,null,null,null,null,null,null,null,null,null,"④　女子は必ず赤のマーカーでマークしてください。"]
[null,null,null,null,null,null,null,null,null,null,"⑤　最高記録は競技会での公認記録を記入してください。無い場合、不明の場合は"]
[null,null,"１６００ｍＲ",null,null,null,null,null,null,null,null,"空欄でお願いします。尚、フィールド競技の場合は練習での記録でも結構です。"]

{"sheet":"女個票","index":6,"n_rows":30,"n_cols":22,"rows_kept":30,"cut":false,"hidden":false,"merged":[[23,2,28,2],[23,6,28,6],[23,7,28,7],[29,2,34,2],[29,6,34,6],[29,7,34,7]]}
[null,null,null,null,3,5,10,null,null,null,3,5,10,null,null,null,3,5,10,3]
[null,null,null,"右のボタンをクリックして下さい"]
[null,null,"女子","プログラム編成用紙",null,null,null,null,null,null,null,"Ｂ　　票",null,null,"女子"]
[]
["種目名","申数","種　目","番号","氏　名","学年","校　名","最高記録","種　目","番号","氏　名","学年","校　名","最高記録","種　目","番号","氏　名","学年","校　名","最高記録","番号","氏　名"]
["100m",0,"１００ｍ",null,null,null,null,null,"１００ｍ",null,null,null,null,null,"１００ｍ",null,null,null,null,null,{"$f":"Z6","v":0}]
["200m",0,"２００ｍ",null,null,null,null,null,"２００ｍ",null,null,null,null,null,"２００ｍ",null,null,null,null,null,{"$f":"Z7","v":0}]
["400m",0,"４００ｍ",null,null,null,null,null,"４００ｍ",null,null,null,null,null,"４００ｍ",null,null,null,null,null,{"$f":"Z8","v":0}]
["800m",0,"８００ｍ",null,null,null,null,null,"８００ｍ",null,null,null,null,null,"８００ｍ",null,null,null,null,null,0]
["1500m",0,"１,５００ｍ",null,null,null,null,null,"１,５００ｍ",null,null,null,null,null,"１,５００ｍ",null,null,null,null,null,0]
["3000m",0,"３,０００ｍ",null,null,null,null,null,"３,０００ｍ",null,null,null,null,null,"３,０００ｍ",null,null,null,null,null,0]
["100mH",0,"１００ｍＨ",null,null,null,null,null,"１００ｍＨ",null,null,null,null,null,"１００ｍＨ",null,null,null,null,null,0]
["400mH",0,"４００ｍＨ",null,null,null,null,null,"４００ｍＨ",null,null,null,null,null,"４００ｍＨ",null,null,null,null,null,0]
["5000mW",0,"５０００ｍＷ",null,null,null,null,null,"５０００ｍＷ",null,null,null,null,null,"５０００ｍＷ",null,null,null,null,null,0]
["走高跳",0,"走　高　跳",null,null,null,null,null,"走　高　跳",null,null,null,null,null,"走　高　跳",null,null,null,null,null,0]
["棒高跳",0,"棒　高　跳",null,null,null,null,null,"棒　高　跳",null,null,null,null,null,"棒　高　跳"]
["走幅跳",0,"走　幅　跳",null,null,null,null,null,"走　幅　跳",null,null,null,null,null,"走　幅　跳",null,null,null,null,null,0]
["三段跳",0,"三　段　跳",null,null,null,null,null,"三　段　跳",null,null,null,null,null,"三　段　跳"]
["砲丸投",0,"砲　丸　投",null,null,null,null,null,"砲　丸　投",null,null,null,null,null,"砲　丸　投",null,null,null,null,null,0]
["円盤投",0,"円　盤　投",null,null,null,null,null,"円　盤　投",null,null,null,null,null,"円　盤　投",null,null,null,null,null,0]
["ﾊﾝﾏｰ投",0,"ハンマー投",null,null,null,null,null,"ハンマー投",null,null,null,null,null,"ハンマー投"]
["やり投",0,"や　り　投",null,null,null,null,null,"や　り　投",null,null,null,null,null,"や　り　投",null,null,null,null,null,0]
["７種競技",0,"７種競技",null,null,null,null,null,"７種競技",null,null,null,null,null,"７種競技",null,null,null,null,null,0]
[null,null,"４００ｍＲ"]
[null,null,null,null,null,null,null,null,null,"注意事項：","①　登録番号は本年度陸連登録の番号を必ず記入してください。"]
[null,null,null,null,null,null,null,null,null,null,"②　校名には「高校」は記入しないでください。例）三池工・八女"]
[null,null,null,null,null,null,null,null,null,null,"③  番号の前の「Ａ」は省いてください。"]
[null,null,null,null,null,null,null,null,null,null,"④　女子は必ず赤のマーカーでマークしてください。"]
[null,null,null,null,null,null,null,null,null,null,"⑤　最高記録は競技会での公認記録を記入してください。無い場合、不明の場合は"]
[null,null,"１６００ｍＲ",null,null,null,null,null,null,null,null,"空欄でお願いします。尚、フィールド競技の場合は、練習での記録でも結構です。"]

{"sheet":"新男駅伝","index":7,"n_rows":29,"n_cols":13,"rows_kept":29,"cut":false,"hidden":false,"merged":[[9,2,9,3],[9,7,9,12]]}
[null,null,null,null,3,5,null,7,null,8,null,9]
[null,null,null,null,{"$f":"学校データ!$A$2&DBCS(学校データ!$B$2)&学校データ!$C$2&\"　新人駅伝競走大会　男子申込書\"","v":"令和７年度　新人駅伝競走大会　男子申込書"}]
[]
[null,null,null,"学校名",{"$f":"学校データ!$D$6&学校データ!$E$6","v":"高等学校"}]
[]
[null,null,null,"監督名",{"$f":"学校データ!N6","v":0}]
[]
[null,null,null,"主将名"]
[]
[null,null,"登録番号",null,"選　手　氏　名","学年","健康状態","生　年　月　日"]
[null,1,"A",null,{"$f":"IF(ISERROR(VLOOKUP($D11,選手名簿,E$1)),\"\",VLOOKUP($D11,選手名簿,E$1))","v":""},"",{"$f":"IF(D11<>\"\",\"良好\",\"\")","v":""},{"$f":"IF(ISERROR(VLOOKUP($D11,選手名簿,H$1)),\"\",VLOOKUP($D11,選手名簿,H$1))","v":""},"年",{"$f":"IF(ISERROR(VLOOKUP($D11,選手名簿,J$1)),\"\",VLOOKUP($D11,選手名簿,J$1))","v":""},"月",{"$f":"IF(ISERROR(VLOOKUP($D11,選手名簿,L$1)),\"\",VLOOKUP($D11,選手名簿,L$1))","v":""},"日生"]
[null,2,"A",null,"","",{"$f":"IF(D12<>\"\",\"良好\",\"\")","v":""},"","年","","月","","日生"]
[null,3,"A",null,"","","","","年","","月","","日生"]
[null,4,"A",null,"","","","","年","","月","","日生"]
[null,5,"A",null,"","","","","年","","月","","日生"]
[null,"補","A",null,"","","","","年","","月","","日生"]
[null,"補","A",null,"","","","","年","","月","","日生"]
[null,"補","A",null,"","","","","年","","月","","日生"]
[]
[null,"上記の生徒は本校在学生であり、標記大会への出場を許可する。"]
[null,"高体連個人情報に関する保護規定を承認した上で参加申込みをすることに同意します。"]
[]
[null,null,null,null,null,null,{"$f":"学校データ!$A$2&DBCS(学校データ!$B$2)&\"年\"","v":"令和７年"},null,"月",null,"日"]
[]
[null,null,"学校住所",null,{"$f":"学校データ!$J$6","v":0}]
[]
[null,null,"学 校 名",null,{"$f":"学校データ!$D$6&学校データ!$E$6","v":"高等学校"}]
[]
[null,null,"学校長名",null,{"$f":"学校データ!$M$6","v":0},null,"印"]

{"sheet":"新女駅伝","index":8,"n_rows":28,"n_cols":13,"rows_kept":28,"cut":false,"hidden":false,"merged":[[9,2,9,3],[9,7,9,12]]}
[null,null,null,null,3,5,null,7,null,8,null,9]
[null,null,null,null,{"$f":"学校データ!$A$2&DBCS(学校データ!$B$2)&学校データ!$C$2&\"　新人駅伝競走大会　女子申込書\"","v":"令和７年度　新人駅伝競走大会　女子申込書"}]
[]
[null,null,null,"学校名",{"$f":"学校データ!$D$6&学校データ!$E$6","v":"高等学校"}]
[]
[null,null,null,"監督名",{"$f":"学校データ!N6","v":0}]
[]
[null,null,null,"主将名"]
[]
[null,null,"登録番号",null,"選　手　氏　名","学年","健康状態","生　年　月　日"]
[null,1,"A",null,{"$f":"IF(ISERROR(VLOOKUP($D11,選手名簿,E$1)),\"\",VLOOKUP($D11,選手名簿,E$1))","v":""},"",{"$f":"IF(D11<>\"\",\"良好\",\"\")","v":""},{"$f":"IF(ISERROR(VLOOKUP($D11,選手名簿,H$1)),\"\",VLOOKUP($D11,選手名簿,H$1))","v":""},"年",{"$f":"IF(ISERROR(VLOOKUP($D11,選手名簿,J$1)),\"\",VLOOKUP($D11,選手名簿,J$1))","v":""},"月",{"$f":"IF(ISERROR(VLOOKUP($D11,選手名簿,L$1)),\"\",VLOOKUP($D11,選手名簿,L$1))","v":""},"日生"]
[null,2,"A",null,"","",{"$f":"IF(D12<>\"\",\"良好\",\"\")","v":""},"","年","","月","","日生"]
[null,3,"A",null,"","","","","年","","月","","日生"]
[null,4,"A",null,"","","","","年","","月","","日生"]
[null,"補","A",null,"","","","","年","","月","","日生"]
[null,"補","A",null,"","","","","年","","月","","日生"]
[null,"補","A",null,"","","","","年","","月","","日生"]
[]
[null,"上記の生徒は本校在学生であり、標記大会への出場を許可する。"]
[null,"高体連個人情報に関する保護規定を承認した上で参加申込みをすることに同意します。"]
[]
[null,null,null,null,null,null,{"$f":"学校データ!$A$2&DBCS(学校データ!$B$2)&\"年\"","v":"令和７年"},null,"月",null,"日"]
[]
[null,null,"学校住所",null,{"$f":"学校データ!$J$6","v":0}]
[]
[null,null,"学 校 名",null,{"$f":"学校データ!$D$6&学校データ!$E$6","v":"高等学校"}]
[]
[null,null,"学校長名",null,{"$f":"学校データ!$M$6","v":0},null,"印"]

{"sheet":"男ﾛｰﾄﾞ","index":9,"n_rows":32,"n_cols":13,"rows_kept":32,"cut":false,"hidden":false,"merged":[[2,4,2,8],[1,4,1,8],[10,7,10,12],[4,3,4,6],[10,2,10,3],[4,8,4,10]]}
[null,null,null,null,3,5,null,7,null,8,null,9]
[null,null,null,null,{"$f":"学校データ!$A$2&DBCS(学校データ!$B$2)&学校データ!$C$2","v":"令和７年度"}]
[null,null,null,null,"新人ロードレース大会"]
[]
[null,null,null,"出場申込書",null,null,null,null,"男　子"]
[]
[null,null,null,"学校名",{"$f":"学校データ!$D$6&学校データ!$E$6","v":"高等学校"}]
[]
[null,null,null,"監督名",{"$f":"学校データ!N6","v":0}]
[]
[null,null,"登録番号",null,"選　手　氏　名","学年","健康状態","生　年　月　日"]
[null,1,"A",null,{"$f":"IF(ISERROR(VLOOKUP($D12,選手名簿,E$1)),\"\",VLOOKUP($D12,選手名簿,E$1))","v":""},"",{"$f":"IF(D12<>\"\",\"良好\",\"\")","v":""},{"$f":"IF(ISERROR(VLOOKUP($D12,選手名簿,H$1)),\"\",VLOOKUP($D12,選手名簿,H$1))","v":""},"年",{"$f":"IF(ISERROR(VLOOKUP($D12,選手名簿,J$1)),\"\",VLOOKUP($D12,選手名簿,J$1))","v":""},"月",{"$f":"IF(ISERROR(VLOOKUP($D12,選手名簿,L$1)),\"\",VLOOKUP($D12,選手名簿,L$1))","v":""},"日生"]
[null,2,"A",null,"","",{"$f":"IF(D13<>\"\",\"良好\",\"\")","v":""},"","年","","月","","日生"]
[null,3,"A",null,"","","","","年","","月","","日生"]
[null,4,"A",null,"","","","","年","","月","","日生"]
[null,5,"A",null,"","","","","年","","月","","日生"]
[null,6,"A",null,"","","","","年","","月","","日生"]
[null,7,"A",null,"","","","","年","","月","","日生"]
[null,8,"A",null,"","","","","年","","月","","日生"]
[null,9,"A",null,"","","","","年","","月","","日生"]
[null,10,"A",null,"","","","","年","","月","","日生"]
[]
[null,"上記の生徒は本校在学生であり、標記大会への出場を許可する。"]
[null,"高体連個人情報に関する保護規定を承認した上で参加申込みをすることに同意します。"]
[]
[null,null,null,null,null,null,{"$f":"学校データ!$A$2&DBCS(学校データ!$B$2)&\"年\"","v":"令和７年"},null,"月",null,"日"]
[]
[null,null,"学校住所",null,{"$f":"学校データ!$J$6","v":0}]
[]
[null,null,"学 校 名",null,{"$f":"学校データ!$D$6&学校データ!$E$6","v":"高等学校"}]
[]
[null,null,"学校長名",null,{"$f":"学校データ!$M$6","v":0},null,"印"]

{"sheet":"女ﾛｰﾄﾞ","index":10,"n_rows":32,"n_cols":13,"rows_kept":32,"cut":false,"hidden":false,"merged":[[1,4,1,8],[2,4,2,8],[10,7,10,12],[4,3,4,6],[10,2,10,3],[4,8,4,10]]}
[null,null,null,null,3,5,null,7,null,8,null,9]
[null,null,null,null,{"$f":"学校データ!$A$2&DBCS(学校データ!$B$2)&学校データ!$C$2","v":"令和７年度"}]
[null,null,null,null,"新人ロードレース大会"]
[]
[null,null,null,"出場申込書",null,null,null,null,"女　子"]
[]
[null,null,null,"学校名",{"$f":"学校データ!$D$6&\"\"&学校データ!$E$6","v":"高等学校"}]
[]
[null,null,null,"監督名",{"$f":"学校データ!N6","v":0}]
[]
[null,null,"登録番号",null,"選　手　氏　名","学年","健康状態","生　年　月　日"]
[null,1,"A",null,{"$f":"IF(ISERROR(VLOOKUP($D12,選手名簿,E$1)),\"\",VLOOKUP($D12,選手名簿,E$1))","v":""},"",{"$f":"IF(E12<>\"\",\"良好\",\"\")","v":""},{"$f":"IF(ISERROR(VLOOKUP($D12,選手名簿,H$1)),\"\",VLOOKUP($D12,選手名簿,H$1))","v":""},"年",{"$f":"IF(ISERROR(VLOOKUP($D12,選手名簿,J$1)),\"\",VLOOKUP($D12,選手名簿,J$1))","v":""},"月",{"$f":"IF(ISERROR(VLOOKUP($D12,選手名簿,L$1)),\"\",VLOOKUP($D12,選手名簿,L$1))","v":""},"日生"]
[null,2,"A",null,"","",{"$f":"IF(E13<>\"\",\"良好\",\"\")","v":""},"","年","","月","","日生"]
[null,3,"A",null,"","","","","年","","月","","日生"]
[null,4,"A",null,"","","","","年","","月","","日生"]
[null,5,"A",null,"","","","","年","","月","","日生"]
[null,6,"A",null,"","","","","年","","月","","日生"]
[null,7,"A",null,"","","","","年","","月","","日生"]
[null,8,"A",null,"","","","","年","","月","","日生"]
[null,9,"A",null,"","","","","年","","月","","日生"]
[null,10,"A",null,"","","","","年","","月","","日生"]
[]
[null,"上記の生徒は本校在学生であり、標記大会への出場を許可する。"]
[null,"高体連個人情報に関する保護規定を承認した上で参加申込みをすることに同意します。"]
[]
[null,null,null,null,null,null,{"$f":"学校データ!$A$2&DBCS(学校データ!$B$2)&\"年\"","v":"令和７年"},null,"月",null,"日"]
[]
[null,null,"学校住所",null,{"$f":"学校データ!$J$6","v":0}]
[]
[null,null,"学 校 名",null,{"$f":"学校データ!$D$6&学校データ!$E$6","v":"高等学校"}]
[]
[null,null,"学校長名",null,{"$f":"学校データ!$M$6","v":0},null,"印"]

{"sheet":"種目名","index":11,"n_rows":46,"n_cols":6,"rows_kept":46,"cut":false,"hidden":false,"merged":[]}
["男子","女子","種目","リレー","高校種目","健康診断"]
["100m","100m","100m","○","100m","異常なし"]
["200m","200m","200m",null,"200m"]
["400m","400m","400m",null,"400m"]
["800m","800m","800m",null,"800m"]
["1500m","1500m","1500m",null,"1500m"]
["3000m","3000m","3000m",null,"3000m"]
["5000m","100mH","5000m",null,"5000m"]
["110mJH","400mH","100mH",null,"100mH"]
["110mH","5000mW","110mH",null,"110mJH"]
["400mH","走高跳","400mH",null,"110mH"]
["3000mSC","棒高跳","3000mSC",null,"400mH"]
["5000mW","走幅跳","5000mW",null,"3000mSC"]
["走高跳","三段跳","走高跳",null,"5000mW"]
["棒高跳","砲丸投","棒高跳",null,"走高跳"]
["走幅跳","円盤投","走幅跳",null,"棒高跳"]
["三段跳","ﾊﾝﾏｰ投","三段跳",null,"走幅跳"]
["砲丸投","やり投","砲丸投",null,"三段跳"]
["円盤投","７種競技","円盤投",null,"砲丸投"]
["やり投","ホ100","やり投",null,"円盤投"]
["ﾊﾝﾏｰ投","ホ200","ﾊﾝﾏｰ投",null,"やり投"]
["８種競技","ホ400","７種競技",null,"ﾊﾝﾏｰ投"]
["ホ100","ホ800","８種競技",null,"７種競技"]
["ホ200","ホ1500",null,null,"８種競技"]
["ホ400","ホ3000",null,null,"ﾎ 100m"]
["ホ800","ホ100H",null,null,"ﾎ 200m"]
["ホ1500","ホ400H",null,null,"ﾎ 400m"]
["ホ5000","ホ5000W",null,null,"ﾎ 800m"]
["ホ110H","ホ走高跳",null,null,"ﾎ 1500m"]
["ホ400H","ホ棒高跳",null,null,"ﾎ 3000m"]
["ホ3000SC","ホ走幅跳",null,null,"ﾎ 5000m"]
["ホ5000W","ホ三段跳",null,null,"ﾎ 100mH"]
["ホ走高跳","ホ砲丸投",null,null,"ﾎ 110mH"]
["ホ棒高跳","ホ円盤投",null,null,"ﾎ 400mH"]
["ホ走幅跳","ホﾊﾝﾏｰ投",null,null,"ﾎ 3000mSC"]
["ホ三段跳","ホやり投",null,null,"ﾎ 5000mW"]
["ホ砲丸投","ホ７種",null,null,"ﾎ 走高跳"]
["ホ円盤投",null,null,null,"ﾎ 棒高跳"]
["ホやり投",null,null,null,"ﾎ 走幅跳"]
["ホﾊﾝﾏｰ投",null,null,null,"ﾎ 三段跳"]
["ホ８種",null,null,null,"ﾎ 砲丸投"]
[null,null,null,null,"ﾎ 円盤投"]
[null,null,null,null,"ﾎ やり投"]
[null,null,null,null,"ﾎ ﾊﾝﾏｰ投"]
[null,null,null,null,"ﾎ ７種競技"]
[null,null,null,null,"ﾎ ８種競技"]